BEGIN:VCALENDAR
VERSION:2.0
PRODID:-//High Desert B.I.T.S. - ECPv6.15.20//NONSGML v1.0//EN
CALSCALE:GREGORIAN
METHOD:PUBLISH
X-WR-CALNAME:High Desert B.I.T.S.
X-ORIGINAL-URL:https://highdesertbits.com
X-WR-CALDESC:Events for High Desert B.I.T.S.
REFRESH-INTERVAL;VALUE=DURATION:PT1H
X-Robots-Tag:noindex
X-PUBLISHED-TTL:PT1H
BEGIN:VTIMEZONE
TZID:UTC
BEGIN:STANDARD
TZOFFSETFROM:+0000
TZOFFSETTO:+0000
TZNAME:UTC
DTSTART:20230101T000000
END:STANDARD
END:VTIMEZONE
BEGIN:VEVENT
DTSTART;TZID=UTC:20241020T140000
DTEND;TZID=UTC:20241020T160000
DTSTAMP:20260424T220251
CREATED:20240929T001409Z
LAST-MODIFIED:20240929T002703Z
UID:539-1729432800-1729440000@highdesertbits.com
SUMMARY:CHURCHILL at the Tower Theatre
DESCRIPTION:Presented by Emery Producitons\, starring David Payne in this riviting one man show. \nTickets at www.Towertheatre.org \nOct. 20 at 2pm
URL:https://highdesertbits.com/event/churchill-at-the-tower-theatre/
LOCATION:Tower Theatre\, 835 NW Wall St\, Bend\, OR\, 97703\, United States
END:VEVENT
BEGIN:VEVENT
DTSTART;TZID=UTC:20241020T180000
DTEND;TZID=UTC:20241020T210000
DTSTAMP:20260424T220251
CREATED:20241014T140528Z
LAST-MODIFIED:20241014T164208Z
UID:618-1729447200-1729458000@highdesertbits.com
SUMMARY:CCHS presents STAGE FRIGHT HAUNTED HOUSE FUNDRAISER
DESCRIPTION:Crook County High School presents Stage Fright Haunted House Fundraiser \n10/18 from 6-9pm\,  10/20 from 6-10pm\,  10/20 6-9pm \n10/25 6-9pm\,  10/26 6-10pm\,  10/27 6-9pm \nAt the Crooked River Amphitheater at Les Scwab fields
URL:https://highdesertbits.com/event/cchs-presents-stae-fright/
LOCATION:Crooked River Amphitheater @ Les Schwab fields\, S Main St\, Prineville\, OR\, 97754
END:VEVENT
BEGIN:VEVENT
DTSTART;TZID=UTC:20241020T193000
DTEND;TZID=UTC:20241020T213000
DTSTAMP:20260424T220251
CREATED:20240928T141533Z
LAST-MODIFIED:20240928T141533Z
UID:438-1729452600-1729459800@highdesertbits.com
SUMMARY:CTC presents DRACULA: A COMEDY OF TERRORS
DESCRIPTION:CTC’s Dracula: A Comedy of Terrors \nby Gordon Greenberg and Steve Rosen \nOct 18-Nov. 3rd\, 2024
URL:https://highdesertbits.com/event/ctc-presents-dracula-a-comedy-of-terrors-2/
LOCATION:CTC Cascade Theatrical Company\, 148 NW Greenwood Ave\, Bend\, OR\, 97703
END:VEVENT
END:VCALENDAR