BEGIN:VCALENDAR
VERSION:2.0
PRODID:-//High Desert B.I.T.S. - ECPv6.15.20//NONSGML v1.0//EN
CALSCALE:GREGORIAN
METHOD:PUBLISH
X-WR-CALNAME:High Desert B.I.T.S.
X-ORIGINAL-URL:https://highdesertbits.com
X-WR-CALDESC:Events for High Desert B.I.T.S.
REFRESH-INTERVAL;VALUE=DURATION:PT1H
X-Robots-Tag:noindex
X-PUBLISHED-TTL:PT1H
BEGIN:VTIMEZONE
TZID:UTC
BEGIN:STANDARD
TZOFFSETFROM:+0000
TZOFFSETTO:+0000
TZNAME:UTC
DTSTART:20230101T000000
END:STANDARD
END:VTIMEZONE
BEGIN:VEVENT
DTSTART;TZID=UTC:20241102T103000
DTEND;TZID=UTC:20241102T113000
DTSTAMP:20260424T202043
CREATED:20241020T142405Z
LAST-MODIFIED:20241020T142405Z
UID:644-1730543400-1730547000@highdesertbits.com
SUMMARY:BEAT Childrens Theatre presents CHARLIE BROWN AND T'WAS THE NIGHT BEFORE CHRISTMAS
DESCRIPTION:BEAT Childrens Theatre presents CHARLIE BROWN AND T’WAS THE NIGHT BEFORE CHRISTMAS \nSat.\, Nov 2  @ 10:30am\, 1pm\, 5pm\, and 7pm \nSat.\, Nov 9 @ 10am\, 1pm\, 4pm\,  and 6:30pm \nBend Elks Lodge\, 63210 Boyd Acres Rd \nhttps://www.beatchildrenstheatre.org/select-performance \n  \n“‘Twas the Night Before Christmas” written by Clement Clarke Moore \n“A Charlie Brown Christmas” written by Charles M. Schultz \nBased on the television special by Bill Melendez & Lee Mendelson \nStage adaption byEric Schaeffer \nBy special arrangement with \nArthur White & Ruby Peterson
URL:https://highdesertbits.com/event/beat-childrens-theatre-presents-charlie-brown-and-twas-the-night-before-christmas/
LOCATION:Bend Elks Lodge\, 63210 Boyd Acres Rd\, Bend\, OR\, United States
END:VEVENT
BEGIN:VEVENT
DTSTART;TZID=UTC:20241102T130000
DTEND;TZID=UTC:20241102T140000
DTSTAMP:20260424T202043
CREATED:20241020T142634Z
LAST-MODIFIED:20241020T142634Z
UID:648-1730552400-1730556000@highdesertbits.com
SUMMARY:BEAT Childrens Theater presents CHARLIE BROWN AND T'WAS THE NIGHT BEFORE CHRISTMAS
DESCRIPTION:BEAT Childrens Theatre presents CHARLIE BROWN AND T’WAS THE NIGHT BEFORE CHRISTMAS \nSat.\, Nov 2  @ 10:30am\, 1pm\, 5pm\, and 7pm \nSat.\, Nov 9 @ 10am\, 1pm\, 4pm\,  and 6:30pm \nBend Elks Lodge\, 63210 Boyd Acres Rd \nhttps://www.beatchildrenstheatre.org/select-performance \n  \n“‘Twas the Night Before Christmas” written by Clement Clarke Moore \n“A Charlie Brown Christmas” written by Charles M. Schultz \nBased on the television special by Bill Melendez & Lee Mendelson \nStage adaption byEric Schaeffer \nBy special arrangement with \nArthur White & Ruby Peterson
URL:https://highdesertbits.com/event/beat-childrens-theater-presents-charlie-brown-and-twas-the-night-before-christmas/
LOCATION:Bend Elks Lodge\, 63210 Boyd Acres Rd\, Bend\, OR\, United States
END:VEVENT
BEGIN:VEVENT
DTSTART;TZID=UTC:20241102T170000
DTEND;TZID=UTC:20241102T180000
DTSTAMP:20260424T202043
CREATED:20241020T142804Z
LAST-MODIFIED:20241020T142804Z
UID:650-1730566800-1730570400@highdesertbits.com
SUMMARY:BEAT Childrens Theatre presents CHARLIE BROWN AND T'WAS THE NIGHT BEFORE CHRISTMAS
DESCRIPTION:BEAT Childrens Theatre presents CHARLIE BROWN AND T’WAS THE NIGHT BEFORE CHRISTMAS \nSat.\, Nov 2  @ 10:30am\, 1pm\, 5pm\, and 7pm \nSat.\, Nov 9 @ 10am\, 1pm\, 4pm\,  and 6:30pm \nBend Elks Lodge\, 63210 Boyd Acres Rd \nhttps://www.beatchildrenstheatre.org/select-performance \n  \n“‘Twas the Night Before Christmas” written by Clement Clarke Moore \n“A Charlie Brown Christmas” written by Charles M. Schultz \nBased on the television special by Bill Melendez & Lee Mendelson \nStage adaption byEric Schaeffer \nBy special arrangement with \nArthur White & Ruby Peterson
URL:https://highdesertbits.com/event/beat-childrens-theatre-presents-charlie-brown-and-twas-the-night-before-christmas-2/
LOCATION:Bend Elks Lodge\, 63210 Boyd Acres Rd\, Bend\, OR\, United States
END:VEVENT
BEGIN:VEVENT
DTSTART;TZID=UTC:20241102T180000
DTEND;TZID=UTC:20241102T200000
DTSTAMP:20260424T202043
CREATED:20241021T044734Z
LAST-MODIFIED:20241021T044734Z
UID:672-1730570400-1730577600@highdesertbits.com
SUMMARY:RPA presents THE SERVANT OF TWO MASTERS
DESCRIPTION:Redmond Proficiency Academy presents The Servant of Two Masters\, a hilarious modern adaptation by Oded Gross of the classic Italian farce! \n10/25 and 10/26 at 6pm\, 10/27 at 2pm \n11/1 and 11/2 at 6pm \nRPA McClay Center of the Performing Arts \nTickets at https://ticketleap.events/tickets/rpatheatre/servant \nhttps://www.facebook.com/rpatheatre/
URL:https://highdesertbits.com/event/rpa-presents-the-servant-of-two-masters-5/
LOCATION:RPA at McClay Center of the Performing Arts\, 640 SW Evrgreen Ave\, Redmond\, OR\, 97756\, United States
END:VEVENT
BEGIN:VEVENT
DTSTART;TZID=UTC:20241102T190000
DTEND;TZID=UTC:20241102T200000
DTSTAMP:20260424T202043
CREATED:20241020T142953Z
LAST-MODIFIED:20241020T142953Z
UID:652-1730574000-1730577600@highdesertbits.com
SUMMARY:BEAT Childrens Theatre presents CHARLIE BROWN AND T'WAS THE NIGHT BEFORE CHRISTMAS
DESCRIPTION:BEAT Childrens Theatre presents CHARLIE BROWN AND T’WAS THE NIGHT BEFORE CHRISTMAS \nSat.\, Nov 2  @ 10:30am\, 1pm\, 5pm\, and 7pm \nSat.\, Nov 9 @ 10am\, 1pm\, 4pm\,  and 6:30pm \nBend Elks Lodge\, 63210 Boyd Acres Rd \nhttps://www.beatchildrenstheatre.org/select-performance \n  \n“‘Twas the Night Before Christmas” written by Clement Clarke Moore \n“A Charlie Brown Christmas” written by Charles M. Schultz \nBased on the television special by Bill Melendez & Lee Mendelson \nStage adaption byEric Schaeffer \nBy special arrangement with \nArthur White & Ruby PetersonbEAT
URL:https://highdesertbits.com/event/beat-childrens-theatre-presents-charlie-brown-and-twas-the-night-before-christmas-3/
LOCATION:Bend Elks Lodge\, 63210 Boyd Acres Rd\, Bend\, OR\, United States
END:VEVENT
BEGIN:VEVENT
DTSTART;TZID=UTC:20241102T190000
DTEND;TZID=UTC:20241102T210000
DTSTAMP:20260424T202043
CREATED:20240928T135438Z
LAST-MODIFIED:20240928T135438Z
UID:411-1730574000-1730581200@highdesertbits.com
SUMMARY:Greenhouse Cabaret presents SWEENEY TODD
DESCRIPTION:Greenhouse Cabaret presents SWEENEY TODD \nMusic and lyrics by Stephen Sondheim \nBook by Hugh Wheeler \n  \nOct. 25-Nov. 23
URL:https://highdesertbits.com/event/greenhouse-cabaret-presents-sweeney-todd-6/
LOCATION:Greenhouse Cabaret\, 1017 NE 2nd St.\, Bend\, OR\, 97701\, United States
END:VEVENT
BEGIN:VEVENT
DTSTART;TZID=UTC:20241102T193000
DTEND;TZID=UTC:20241102T213000
DTSTAMP:20260424T202043
CREATED:20240928T142338Z
LAST-MODIFIED:20240928T142338Z
UID:452-1730575800-1730583000@highdesertbits.com
SUMMARY:CTC presents DRACULA: A COMEDY OF TERRORS
DESCRIPTION:CTC’s Dracula: A Comedy of Terrors \nby Gordon Greenberg and Steve Rosen \nOct 18-Nov. 3rd\, 2024
URL:https://highdesertbits.com/event/ctc-presents-dracula-a-comedy-of-terrors-6/
LOCATION:CTC Cascade Theatrical Company\, 148 NW Greenwood Ave\, Bend\, OR\, 97703
END:VEVENT
END:VCALENDAR