BEGIN:VCALENDAR
VERSION:2.0
PRODID:-//High Desert B.I.T.S. - ECPv6.15.20//NONSGML v1.0//EN
CALSCALE:GREGORIAN
METHOD:PUBLISH
X-ORIGINAL-URL:https://highdesertbits.com
X-WR-CALDESC:Events for High Desert B.I.T.S.
REFRESH-INTERVAL;VALUE=DURATION:PT1H
X-Robots-Tag:noindex
X-PUBLISHED-TTL:PT1H
BEGIN:VTIMEZONE
TZID:UTC
BEGIN:STANDARD
TZOFFSETFROM:+0000
TZOFFSETTO:+0000
TZNAME:UTC
DTSTART:20230101T000000
END:STANDARD
END:VTIMEZONE
BEGIN:VEVENT
DTSTART;TZID=UTC:20241107T180000
DTEND;TZID=UTC:20241107T200000
DTSTAMP:20260424T202115
CREATED:20241029T011225Z
LAST-MODIFIED:20241029T011225Z
UID:687-1731002400-1731009600@highdesertbits.com
SUMMARY:Auditions for ETC's THE LIFESPAN OF A FACT
DESCRIPTION:By Jeremy Kareken\, David Murrell and Gordon Farrell \n  \nNov 6 and 7 \n6-8pm \nHoly Communion Church \n1245 SE 3rd St. Bend
URL:https://highdesertbits.com/event/auditions-for-etcs-the-lifespan-of-a-fact-2/
LOCATION:Holy Communion Church\, 1245 SE 3rd St\, Bend\, OR\, 97702
ORGANIZER;CN="ETC Ellipse Theatre Community":MAILTO:https://www.etcbend.org/contact
END:VEVENT
END:VCALENDAR