BEGIN:VCALENDAR
VERSION:2.0
PRODID:-//High Desert B.I.T.S. - ECPv6.15.20//NONSGML v1.0//EN
CALSCALE:GREGORIAN
METHOD:PUBLISH
X-ORIGINAL-URL:https://highdesertbits.com
X-WR-CALDESC:Events for High Desert B.I.T.S.
REFRESH-INTERVAL;VALUE=DURATION:PT1H
X-Robots-Tag:noindex
X-PUBLISHED-TTL:PT1H
BEGIN:VTIMEZONE
TZID:UTC
BEGIN:STANDARD
TZOFFSETFROM:+0000
TZOFFSETTO:+0000
TZNAME:UTC
DTSTART:20230101T000000
END:STANDARD
END:VTIMEZONE
BEGIN:VEVENT
DTSTART;TZID=UTC:20241121T190000
DTEND;TZID=UTC:20241121T210000
DTSTAMP:20260424T202116
CREATED:20240928T140518Z
LAST-MODIFIED:20240928T140518Z
UID:429-1732215600-1732222800@highdesertbits.com
SUMMARY:Greenhouse Cabaret presents SWEENEY TODD
DESCRIPTION:Greenhouse Cabaret presents SWEENEY TODD \nMusic and lyrics by Stephen Sondheim \nBook by Hugh Wheeler \n  \nOct. 25-Nov. 23
URL:https://highdesertbits.com/event/greenhouse-cabaret-presents-sweeney-todd-15/
LOCATION:Greenhouse Cabaret\, 1017 NE 2nd St.\, Bend\, OR\, 97701\, United States
END:VEVENT
END:VCALENDAR