BEGIN:VCALENDAR
VERSION:2.0
PRODID:-//High Desert B.I.T.S. - ECPv6.15.20//NONSGML v1.0//EN
CALSCALE:GREGORIAN
METHOD:PUBLISH
X-WR-CALNAME:High Desert B.I.T.S.
X-ORIGINAL-URL:https://highdesertbits.com
X-WR-CALDESC:Events for High Desert B.I.T.S.
REFRESH-INTERVAL;VALUE=DURATION:PT1H
X-Robots-Tag:noindex
X-PUBLISHED-TTL:PT1H
BEGIN:VTIMEZONE
TZID:UTC
BEGIN:STANDARD
TZOFFSETFROM:+0000
TZOFFSETTO:+0000
TZNAME:UTC
DTSTART:20230101T000000
END:STANDARD
END:VTIMEZONE
BEGIN:VEVENT
DTSTART;TZID=UTC:20241124T140000
DTEND;TZID=UTC:20241124T160000
DTSTAMP:20260424T202105
CREATED:20241022T143536Z
LAST-MODIFIED:20241118T054556Z
UID:682-1732456800-1732464000@highdesertbits.com
SUMMARY:Ochoco Players presents Two Mysteries Matinee
DESCRIPTION:Ochoco Players presents MURDER AT GREY’S HOUND MANSION and a one Act Comedy Mystery at the Bowman Museum in Prineville \nFriday Nov 22 @7pm \nSaturday Nov 23 @7pm \nSunday Nov 24 @ 2pm \n  \nDonations accepted at the door.
URL:https://highdesertbits.com/event/ochoco-players-presents-two-mysteries-3/
LOCATION:Bowman Historical Museum\, 246 N Main Street\, Prineville\, OR\, 97754\, United States
END:VEVENT
END:VCALENDAR