BEGIN:VCALENDAR
VERSION:2.0
PRODID:-//High Desert B.I.T.S. - ECPv6.15.20//NONSGML v1.0//EN
CALSCALE:GREGORIAN
METHOD:PUBLISH
X-ORIGINAL-URL:https://highdesertbits.com
X-WR-CALDESC:Events for High Desert B.I.T.S.
REFRESH-INTERVAL;VALUE=DURATION:PT1H
X-Robots-Tag:noindex
X-PUBLISHED-TTL:PT1H
BEGIN:VTIMEZONE
TZID:UTC
BEGIN:STANDARD
TZOFFSETFROM:+0000
TZOFFSETTO:+0000
TZNAME:UTC
DTSTART:20230101T000000
END:STANDARD
END:VTIMEZONE
BEGIN:VEVENT
DTSTART;TZID=UTC:20241206T190000
DTEND;TZID=UTC:20241206T210000
DTSTAMP:20260424T185311
CREATED:20241106T002824Z
LAST-MODIFIED:20241125T162013Z
UID:719-1733511600-1733518800@highdesertbits.com
SUMMARY:Summit High School presents MEAN GIRLS
DESCRIPTION:Summit High School presents MEAN GIRLS \nBook by Tina Fey\, Music by Jeff Richmond and Lyrics by Nell Benjamin \nhttps://www.stspotlight.org/ \nFri.\, 12/6 at 7pm \nSat.\, 12/7 at 7pm \nSun.\, 12/8 at 2pm \nFri.\, 12/12 at 7pm \nSat.\, 12/13 at 7pm \nSun.\, 12/14 at 7pm
URL:https://highdesertbits.com/event/summit-high-school-presents-mean-girls/
LOCATION:Summit High School\, 2855 NW Clearwater Dr\,\, Bend\, OR\, 97703\, United States
END:VEVENT
BEGIN:VEVENT
DTSTART;TZID=UTC:20241206T190000
DTEND;TZID=UTC:20241206T210000
DTSTAMP:20260424T185311
CREATED:20241106T011007Z
LAST-MODIFIED:20241106T011007Z
UID:737-1733511600-1733518800@highdesertbits.com
SUMMARY:Caldera High School presents THE ODESSEY: A SOLDIER'S JOURNEY HOME
DESCRIPTION:Caldera High School presents THE ODESSEY: A SOLDIER’S JOURNEY HOME \nadapted by Rosemary Cole \n12/5 at 7pm \n12/6 at 7pm \n12/7 at 7pm \n12/8 at 2pm
URL:https://highdesertbits.com/event/caldera-high-school-presents-the-odessey-a-soldiers-journey-home-2/
LOCATION:Caldera High School\, 60925 SE 15th St\,\, Bend\, OR\, 97702\, United States
END:VEVENT
BEGIN:VEVENT
DTSTART;TZID=UTC:20241206T193000
DTEND;TZID=UTC:20241206T213000
DTSTAMP:20260424T185311
CREATED:20240928T225044Z
LAST-MODIFIED:20240928T225044Z
UID:500-1733513400-1733520600@highdesertbits.com
SUMMARY:CTC presents WINTER WONDERETTES
DESCRIPTION:Winter Wonderettes by Roger Bean \nThe Wonderettes are back! This seasonal celebration finds the girls entertaining at the annual Harper’s Hardware Holiday Party. \nShow runs Nov. 29-Dec. 22. \n  \n  \n 
URL:https://highdesertbits.com/event/ctc-presents-winter-wonderettes-5/
LOCATION:CTC Cascade Theatrical Company\, 148 NW Greenwood Ave\, Bend\, OR\, 97703
END:VEVENT
BEGIN:VEVENT
DTSTART;TZID=UTC:20241206T193000
DTEND;TZID=UTC:20241206T213000
DTSTAMP:20260424T185311
CREATED:20241202T155901Z
LAST-MODIFIED:20241202T155901Z
UID:777-1733513400-1733520600@highdesertbits.com
SUMMARY:Silent Echo Theatre Company presents WHAT THE DICKENS
DESCRIPTION:Silent Echo Theatre Company presents WHAT THE DICKENS by Matt Austin \nAt the Sisters Middle School \nTh – 12/5 @ 7:30pm \nFr – 12/6 @ 7:30pm \nSa – 12/7 @ 2pm AND 7:30pm \nSu – 12/8 @ 2pm \nTh – 12/12 @ 7:30pm \nFr – 12/13 @7:30pm \nSa – 12/14 @ 7:30pm \nSu – 12/15 @ 2pm \nPG-13 – Contains material that may be inappropriate for children under 13
URL:https://highdesertbits.com/event/silent-echo-theatre-company-presents-what-the-dickens-2/
LOCATION:Sisters Middle School\, 15200 McKenzie Hwy\, Sisters\, OR\, 97759
ORGANIZER;CN="Silent Echo Theatre Company":MAILTO:silentechotheatercompany@gmail.com
END:VEVENT
END:VCALENDAR