BEGIN:VCALENDAR
VERSION:2.0
PRODID:-//High Desert B.I.T.S. - ECPv6.15.20//NONSGML v1.0//EN
CALSCALE:GREGORIAN
METHOD:PUBLISH
X-WR-CALNAME:High Desert B.I.T.S.
X-ORIGINAL-URL:https://highdesertbits.com
X-WR-CALDESC:Events for High Desert B.I.T.S.
REFRESH-INTERVAL;VALUE=DURATION:PT1H
X-Robots-Tag:noindex
X-PUBLISHED-TTL:PT1H
BEGIN:VTIMEZONE
TZID:UTC
BEGIN:STANDARD
TZOFFSETFROM:+0000
TZOFFSETTO:+0000
TZNAME:UTC
DTSTART:20230101T000000
END:STANDARD
END:VTIMEZONE
BEGIN:VEVENT
DTSTART;TZID=UTC:20241219T193000
DTEND;TZID=UTC:20241219T213000
DTSTAMP:20260424T185305
CREATED:20240928T225933Z
LAST-MODIFIED:20240928T225933Z
UID:514-1734636600-1734643800@highdesertbits.com
SUMMARY:CTC presents WINTER WONDERETTES
DESCRIPTION:Winter Wonderettes by Roger Bean \nThe Wonderettes are back! This seasonal celebration finds the girls entertaining at the annual Harper’s Hardware Holiday Party. \nShow runs Nov. 29-Dec. 22. \n  \n 
URL:https://highdesertbits.com/event/ctc-presents-winter-wonderettes-10/
LOCATION:CTC Cascade Theatrical Company\, 148 NW Greenwood Ave\, Bend\, OR\, 97703
END:VEVENT
END:VCALENDAR