BEGIN:VCALENDAR
VERSION:2.0
PRODID:-//High Desert B.I.T.S. - ECPv6.15.20//NONSGML v1.0//EN
CALSCALE:GREGORIAN
METHOD:PUBLISH
X-WR-CALNAME:High Desert B.I.T.S.
X-ORIGINAL-URL:https://highdesertbits.com
X-WR-CALDESC:Events for High Desert B.I.T.S.
REFRESH-INTERVAL;VALUE=DURATION:PT1H
X-Robots-Tag:noindex
X-PUBLISHED-TTL:PT1H
BEGIN:VTIMEZONE
TZID:UTC
BEGIN:STANDARD
TZOFFSETFROM:+0000
TZOFFSETTO:+0000
TZNAME:UTC
DTSTART:20240101T000000
END:STANDARD
END:VTIMEZONE
BEGIN:VEVENT
DTSTART;TZID=UTC:20250113T180000
DTEND;TZID=UTC:20250113T210000
DTSTAMP:20260424T172901
CREATED:20250112T163216Z
LAST-MODIFIED:20250112T163216Z
UID:953-1736791200-1736802000@highdesertbits.com
SUMMARY:AUDITONS for CTC's MOUSETRAP
DESCRIPTION:AUDITONS for CTC’s MOUSETRAP \nby Agatha Christie \nMon.\, 1/13 from 6-9pm \nTue.\, 1/14 from 6-9pm \n  \nThe Mousetrap
URL:https://highdesertbits.com/event/auditons-for-ctcs-mousetrap/
LOCATION:CTC Cascade Theatrical Company\, 148 NW Greenwood Ave\, Bend\, OR\, 97703
ORGANIZER;CN="CTC Cascade Theatrical Company":MAILTO:ctcinfo@cascadestheatrical.org
END:VEVENT
END:VCALENDAR