BEGIN:VCALENDAR
VERSION:2.0
PRODID:-//High Desert B.I.T.S. - ECPv6.15.20//NONSGML v1.0//EN
CALSCALE:GREGORIAN
METHOD:PUBLISH
X-WR-CALNAME:High Desert B.I.T.S.
X-ORIGINAL-URL:https://highdesertbits.com
X-WR-CALDESC:Events for High Desert B.I.T.S.
REFRESH-INTERVAL;VALUE=DURATION:PT1H
X-Robots-Tag:noindex
X-PUBLISHED-TTL:PT1H
BEGIN:VTIMEZONE
TZID:UTC
BEGIN:STANDARD
TZOFFSETFROM:+0000
TZOFFSETTO:+0000
TZNAME:UTC
DTSTART:20240101T000000
END:STANDARD
END:VTIMEZONE
BEGIN:VEVENT
DTSTART;TZID=UTC:20250117T190000
DTEND;TZID=UTC:20250117T200000
DTSTAMP:20260424T172811
CREATED:20250113T151351Z
LAST-MODIFIED:20250113T151351Z
UID:1041-1737140400-1737144000@highdesertbits.com
SUMMARY:Bend Senior High School  presents 10 MINUTE PLAYS
DESCRIPTION:Bend Senior High School presents 10 minute plays at Summit High School \nFri.\, 1/17 @ 7pm \nSat.\, 1/18 @ 7pm \nDonations at the door \n  \nTHE LEAGUE OF SEMI-SUPERHEROES  by Michael Bigelow Dixon and Valerie Smith \nBENCHMARKS by Glenn Alterman \nFIRST IMPRESSIONS & NEXT STOP! by Matt Thompson \nBOOKWORM’S DILEMMA by  Evan Baughfman \n 
URL:https://highdesertbits.com/event/bend-senior-high-school-presents-10-minute-plays/
LOCATION:Summit High School\, 2855 NW Clearwater Dr\,\, Bend\, OR\, 97703\, United States
END:VEVENT
BEGIN:VEVENT
DTSTART;TZID=UTC:20250117T193000
DTEND;TZID=UTC:20250117T213000
DTSTAMP:20260424T172811
CREATED:20250112T025903Z
LAST-MODIFIED:20250112T025903Z
UID:922-1737142200-1737149400@highdesertbits.com
SUMMARY:CTC presents THE PROM
DESCRIPTION:CTC presents THE PROM \nMusic by Matthew Sklar\, book by Bob Martin\, Chad Beguelin\, lyrics by Chad Beguelin\nThu.\, 1/16 @ 7:30pm            Thu.\, 1/23 @ 7:30pm \nFri.\, 1/10 @ 7:30pm              Fri.\, 1/17 @ 7:30pm                Fri.\, 1/24 @ 7:30pm \nSat.\, 1/11 @ 7:30pm              Sat.\, 1/18 @ 7:30pm              Sat.\, 1/25 @ 7:30pm \nSun.\, 1/12 @ 2pm                  Sun.\, 1/19 @ 2pm                  Sun.\, 1/26 @ 2pm
URL:https://highdesertbits.com/event/ctc-presents-the-prom-5/
LOCATION:CTC Cascade Theatrical Company\, 148 NW Greenwood Ave\, Bend\, OR\, 97703
ORGANIZER;CN="CTC Cascade Theatrical Company":MAILTO:ctcinfo@cascadestheatrical.org
END:VEVENT
END:VCALENDAR