BEGIN:VCALENDAR
VERSION:2.0
PRODID:-//High Desert B.I.T.S. - ECPv6.15.20//NONSGML v1.0//EN
CALSCALE:GREGORIAN
METHOD:PUBLISH
X-WR-CALNAME:High Desert B.I.T.S.
X-ORIGINAL-URL:https://highdesertbits.com
X-WR-CALDESC:Events for High Desert B.I.T.S.
REFRESH-INTERVAL;VALUE=DURATION:PT1H
X-Robots-Tag:noindex
X-PUBLISHED-TTL:PT1H
BEGIN:VTIMEZONE
TZID:UTC
BEGIN:STANDARD
TZOFFSETFROM:+0000
TZOFFSETTO:+0000
TZNAME:UTC
DTSTART:20240101T000000
END:STANDARD
END:VTIMEZONE
BEGIN:VEVENT
DTSTART;TZID=UTC:20250124T193000
DTEND;TZID=UTC:20250124T210000
DTSTAMP:20260424T172853
CREATED:20250120T032448Z
LAST-MODIFIED:20250120T032542Z
UID:1068-1737747000-1737752400@highdesertbits.com
SUMMARY:Mountain View High School presents STUDENT SHOWCASE
DESCRIPTION:Mountain View High School  presents Student Showcase \nFri.\, 1/24 @ 7:30pm
URL:https://highdesertbits.com/event/mvhs-student-showcase/
LOCATION:Mt. View High School\, 2755 NE 27th St\,\, Bend\, OR\, 97701\, United States
END:VEVENT
BEGIN:VEVENT
DTSTART;TZID=UTC:20250124T193000
DTEND;TZID=UTC:20250124T213000
DTSTAMP:20260424T172853
CREATED:20250113T152140Z
LAST-MODIFIED:20250113T152140Z
UID:1047-1737747000-1737754200@highdesertbits.com
SUMMARY:CTC presents THE PROM
DESCRIPTION:CTC presents THE PROM \nMusic by Matthew Sklar\, book by Bob Martin\, Chad Beguelin\, lyrics by Chad Beguelin\n____                                       Thu.\, 1/16 @ 7:30pm          Thu.\, 1/23 @ 7:30pm \nFri.\, 1/10 @ 7:30pm               Fri.\, 1/17 @ 7:30pm              Fri.\, 1/24 @ 7:30pm \nSat.\, 1/11 @ 7:30pm              Sat.\, 1/18 @ 7:30pm            Sat.\, 1/25 @ 7:30pm \nSun.\, 1/12 @ 2pm                 Sun.\, 1/19 @ 2pm                  Sun.\, 1/26 @ 2pm
URL:https://highdesertbits.com/event/ctc-presents-the-prom-11/
LOCATION:CTC Cascade Theatrical Company\, 148 NW Greenwood Ave\, Bend\, OR\, 97703
ORGANIZER;CN="CTC Cascade Theatrical Company":MAILTO:ctcinfo@cascadestheatrical.org
END:VEVENT
END:VCALENDAR