BEGIN:VCALENDAR
VERSION:2.0
PRODID:-//High Desert B.I.T.S. - ECPv6.15.20//NONSGML v1.0//EN
CALSCALE:GREGORIAN
METHOD:PUBLISH
X-WR-CALNAME:High Desert B.I.T.S.
X-ORIGINAL-URL:https://highdesertbits.com
X-WR-CALDESC:Events for High Desert B.I.T.S.
REFRESH-INTERVAL;VALUE=DURATION:PT1H
X-Robots-Tag:noindex
X-PUBLISHED-TTL:PT1H
BEGIN:VTIMEZONE
TZID:UTC
BEGIN:STANDARD
TZOFFSETFROM:+0000
TZOFFSETTO:+0000
TZNAME:UTC
DTSTART:20240101T000000
END:STANDARD
END:VTIMEZONE
BEGIN:VEVENT
DTSTART;TZID=UTC:20250205T190000
DTEND;TZID=UTC:20250205T210000
DTSTAMP:20260424T160223
CREATED:20250125T155500Z
LAST-MODIFIED:20250125T155500Z
UID:1084-1738782000-1738789200@highdesertbits.com
SUMMARY:Crook County High School presents MUCH ADO ABOUT NOTHING
DESCRIPTION:Crook County High School presents MUCH ADO ABOUT NOTHING by William Shakespeare \nWed.\, Feb 5 @ 7pm \nThu.\, Feb 6 @ 7pm \nFri.\, Feb 7 @ 7pm \nSat.\, Feb 8 @ 7pm \nSun.\, Feb 9 @ 2pm \nTickets at the door!
URL:https://highdesertbits.com/event/crook-county-high-school-presents-much-ado-about-nothing/
LOCATION:Crook County High School\, 1100 SE Lynn Blvd\, Prineville\, OR\, 97754
END:VEVENT
END:VCALENDAR