BEGIN:VCALENDAR
VERSION:2.0
PRODID:-//High Desert B.I.T.S. - ECPv6.15.20//NONSGML v1.0//EN
CALSCALE:GREGORIAN
METHOD:PUBLISH
X-ORIGINAL-URL:https://highdesertbits.com
X-WR-CALDESC:Events for High Desert B.I.T.S.
REFRESH-INTERVAL;VALUE=DURATION:PT1H
X-Robots-Tag:noindex
X-PUBLISHED-TTL:PT1H
BEGIN:VTIMEZONE
TZID:UTC
BEGIN:STANDARD
TZOFFSETFROM:+0000
TZOFFSETTO:+0000
TZNAME:UTC
DTSTART:20240101T000000
END:STANDARD
END:VTIMEZONE
BEGIN:VEVENT
DTSTART;TZID=UTC:20250209T140000
DTEND;TZID=UTC:20250209T160000
DTSTAMP:20260424T160303
CREATED:20250112T180748Z
LAST-MODIFIED:20250112T180748Z
UID:1001-1739109600-1739116800@highdesertbits.com
SUMMARY:TMP presents ANNIE at the Tower Theatre
DESCRIPTION:TMP presents ANNIE at the Tower Theatre \nMusic by Charles Strousse\, lyrics by Martin Charnin and book by Thomas Meehan \nFri\, 2/7 @ 7:30pm \nSat.\, 2/8 @ 2pm and 7:30pm \nSun.\, 2/9 at 2pm \n  \nFri.\, 2/14 @ 7:30pm \nSat.\, 2/15 @ 2pm and 7:30pm \nSun.\, 2/16 @ 2pm
URL:https://highdesertbits.com/event/tmp-presents-annie-at-the-tower-theatre-3/
LOCATION:Tower Theatre\, 835 NW Wall St\, Bend\, OR\, 97703\, United States
ORGANIZER;CN="TMP Thoroughly Modern Productions":MAILTO:tmpbend@gmail.com
END:VEVENT
BEGIN:VEVENT
DTSTART;TZID=UTC:20250209T140000
DTEND;TZID=UTC:20250209T160000
DTSTAMP:20260424T160303
CREATED:20250113T014828Z
LAST-MODIFIED:20250113T014828Z
UID:1027-1739109600-1739116800@highdesertbits.com
SUMMARY:BEAT Childrens Theatre presents FINDING NEMO
DESCRIPTION:BEAT Childrens Theatre presents FINDING NEMO at Summit High School \nMusic by Kristen Anderson-Lopez and Robert Lopez\, book adapted by Lindsay Anderson \nFri.\, 2/7 @ 7pm \nSat.\, 2/8 @ 2pm and @ 7pm \nSun.\, 2/9 @ 2pm
URL:https://highdesertbits.com/event/beat-childrens-theatre-presents-finding-nemo-4/
LOCATION:Summit High School\, 2855 NW Clearwater Dr\,\, Bend\, OR\, 97703\, United States
END:VEVENT
BEGIN:VEVENT
DTSTART;TZID=UTC:20250209T160000
DTEND;TZID=UTC:20250209T190000
DTSTAMP:20260424T160303
CREATED:20250112T023818Z
LAST-MODIFIED:20250112T023818Z
UID:909-1739116800-1739127600@highdesertbits.com
SUMMARY:AUDITONS for ETC's TINY BEAUTIFUL THINGS
DESCRIPTION:AUDITONS for ETC’s TINY BEAUTIFUL THINGS \nBased on the book by Cheryl Strayed\, adapted for the stage by Nia Vardalos \nSunday\, Feb 9th from 4-7pm \n  \nHoly Communion Church \n1245 SE 3rd St c10\, Bend\, OR 97702
URL:https://highdesertbits.com/event/auditons-for-etcs-tiny-beautiful-things/
LOCATION:Holy Communion Church\, 1245 SE 3rd St\, Bend\, OR\, 97702
ORGANIZER;CN="ETC Ellipse Theatre Community":MAILTO:https://www.etcbend.org/contact
END:VEVENT
BEGIN:VEVENT
DTSTART;TZID=UTC:20250209T190000
DTEND;TZID=UTC:20250209T210000
DTSTAMP:20260424T160303
CREATED:20250125T160033Z
LAST-MODIFIED:20250125T160033Z
UID:1092-1739127600-1739134800@highdesertbits.com
SUMMARY:Crook County High School presents MUCH ADO ABOUT NOTHING
DESCRIPTION:Crook County High School presents MUCH ADO ABOUT NOTHING by William Shakespeare \nWed.\, Feb 5 @ 7pm \nThu.\, Feb 6 @ 7pm \nFri.\, Feb 7 @ 7pm \nSat.\, Feb 8 @ 7pm \nSun.\, Feb 9 @ 2pm \nTickets at the door!
URL:https://highdesertbits.com/event/crook-county-high-school-presents-much-ado-about-nothing-5/
LOCATION:Crook County High School\, 1100 SE Lynn Blvd\, Prineville\, OR\, 97754
END:VEVENT
END:VCALENDAR