BEGIN:VCALENDAR
VERSION:2.0
PRODID:-//High Desert B.I.T.S. - ECPv6.15.20//NONSGML v1.0//EN
CALSCALE:GREGORIAN
METHOD:PUBLISH
X-ORIGINAL-URL:https://highdesertbits.com
X-WR-CALDESC:Events for High Desert B.I.T.S.
REFRESH-INTERVAL;VALUE=DURATION:PT1H
X-Robots-Tag:noindex
X-PUBLISHED-TTL:PT1H
BEGIN:VTIMEZONE
TZID:UTC
BEGIN:STANDARD
TZOFFSETFROM:+0000
TZOFFSETTO:+0000
TZNAME:UTC
DTSTART:20240101T000000
END:STANDARD
END:VTIMEZONE
BEGIN:VEVENT
DTSTART;TZID=UTC:20250216T140000
DTEND;TZID=UTC:20250216T160000
DTSTAMP:20260424T160305
CREATED:20250112T181423Z
LAST-MODIFIED:20250112T181423Z
UID:1009-1739714400-1739721600@highdesertbits.com
SUMMARY:TMP presents ANNIE at the Tower Theatre
DESCRIPTION:TMP presents ANNIE at the Tower Theatre \nMusic by Charles Strousse\, lyrics by Martin Charnin and book by Thomas Meehan \nFri\, 2/7 @ 7:30pm \nSat.\, 2/8 @ 2pm and 7:30pm \nSun.\, 2/9 at 2pm \n  \nFri.\, 2/14 @ 7:30pm \nSat.\, 2/15 @ 2pm and 7:30pm \nSun.\, 2/16 @ 2pm
URL:https://highdesertbits.com/event/tmp-presents-annie-at-the-tower-theatre-7/
LOCATION:Tower Theatre\, 835 NW Wall St\, Bend\, OR\, 97703\, United States
ORGANIZER;CN="TMP Thoroughly Modern Productions":MAILTO:tmpbend@gmail.com
END:VEVENT
BEGIN:VEVENT
DTSTART;TZID=UTC:20250216T193000
DTEND;TZID=UTC:20250216T213000
DTSTAMP:20260424T160305
CREATED:20250112T031725Z
LAST-MODIFIED:20250112T031725Z
UID:940-1739734200-1739741400@highdesertbits.com
SUMMARY:CTC presents GRAND HORIZONS
DESCRIPTION:CTC presents GRAND HORIZONS \nby Bess Wohl \n_____                                             Thu.\, 2/20 @ 7:30pm                    Thu.\, 2/27 @ 7:30pm \nFri.\, 2/14 @ 7:30pm                   Fri.\, 2/21 @ 7:30pm                      Fri.\, 2/28 @ 7:30pm \nSat.\, 2/15 @ 7:30pm                   Sat.\, 2/22 @ 7:30pm                     Sat.\, 3/1 @ 7:30pm \nSun.\, 2/16 @ 2pm                       Sun.\, 2/23 @ 2pm                         Sun.\, 3/2 @ 2pm
URL:https://highdesertbits.com/event/ctc-presents-grand-horizons-10/
LOCATION:CTC Cascade Theatrical Company\, 148 NW Greenwood Ave\, Bend\, OR\, 97703
ORGANIZER;CN="CTC Cascade Theatrical Company":MAILTO:ctcinfo@cascadestheatrical.org
END:VEVENT
END:VCALENDAR