BEGIN:VCALENDAR
VERSION:2.0
PRODID:-//High Desert B.I.T.S. - ECPv6.15.20//NONSGML v1.0//EN
CALSCALE:GREGORIAN
METHOD:PUBLISH
X-WR-CALNAME:High Desert B.I.T.S.
X-ORIGINAL-URL:https://highdesertbits.com
X-WR-CALDESC:Events for High Desert B.I.T.S.
REFRESH-INTERVAL;VALUE=DURATION:PT1H
X-Robots-Tag:noindex
X-PUBLISHED-TTL:PT1H
BEGIN:VTIMEZONE
TZID:UTC
BEGIN:STANDARD
TZOFFSETFROM:+0000
TZOFFSETTO:+0000
TZNAME:UTC
DTSTART:20240101T000000
END:STANDARD
END:VTIMEZONE
BEGIN:VEVENT
DTSTART;TZID=UTC:20250222T140000
DTEND;TZID=UTC:20250222T160000
DTSTAMP:20260424T160222
CREATED:20250102T055805Z
LAST-MODIFIED:20250211T031057Z
UID:860-1740232800-1740240000@highdesertbits.com
SUMMARY:Ellipse Theatre Community presents THE LIFESPAN OF A FACT
DESCRIPTION:Ellipse Theatre Community presents THE LIFESPAN OF A FACT \nby Jeremy Kareken\, David Murrell and Gordon Farrell (Based on the book by John D’Agata and Jim Fingal) \nThu.\, 2/20 @ 7pm at Unity Community Central Oregon \nFri.\, 2/21 @7pm  Same \nSat.\, 2/22 @ 2pm Same \nSat.\, 2/22 @ 7pm Same
URL:https://highdesertbits.com/event/ellipse-theatre-community-presents-the-lifespan-of-a-fact-3/
LOCATION:Unity Community Central Oregon\, 63645 Scenic Dr\, Bend\, OR\, 97701
ORGANIZER;CN="ETC Ellipse Theatre Community":MAILTO:https://www.etcbend.org/contact
END:VEVENT
BEGIN:VEVENT
DTSTART;TZID=UTC:20250222T140000
DTEND;TZID=UTC:20250222T160000
DTSTAMP:20260424T160222
CREATED:20250213T170221Z
LAST-MODIFIED:20250213T170221Z
UID:1182-1740232800-1740240000@highdesertbits.com
SUMMARY:Ridgeview High School presents PETER PAN
DESCRIPTION:Ridgeview High School presents PETER PAN \nby J.M. Barrie \nThur.\, Feb 13 @ 7pm \nFri.\, Feb 14 @ 7pm \nSat.\, Feb 15 @ 2pm and 7pm \nThur.\, Feb 20 @ 7pm \nFri.\, Feb 21 @ 7pm \nSat.\, Feb 22 @ 2pm and 7pm
URL:https://highdesertbits.com/event/ridgeview-high-school-presents-peter-pan-7/
LOCATION:Ridgeview High School\, 4555 SW Elkhorn Ave\, Redmond\, OR\, 97756
END:VEVENT
BEGIN:VEVENT
DTSTART;TZID=UTC:20250222T190000
DTEND;TZID=UTC:20250222T210000
DTSTAMP:20260424T160222
CREATED:20250113T012946Z
LAST-MODIFIED:20250113T012946Z
UID:1019-1740250800-1740258000@highdesertbits.com
SUMMARY:Ponderosa Players present RIDE THE CYCLONE
DESCRIPTION:Ponderosa Players present RIDE THE CYCLONE (HS edition) at Open Space Event Studios \nMusic\, lyrics and book by Jacob Richmond and Brooke Maxwell \nWed.\, 2/19 @ 7pm \nThur.\, 2/20 @ 7pm \nFri.\, 2/21 @ 7pm \nSat.\, 2/22 @ 2pm and @ 7pm
URL:https://highdesertbits.com/event/ponderosa-players-present-ride-the-cyclone-5/
LOCATION:Open Space Event Studio\, 220 NE Lafayette Ave\, Bend\, OR\, 97701
END:VEVENT
BEGIN:VEVENT
DTSTART;TZID=UTC:20250222T190000
DTEND;TZID=UTC:20250222T210000
DTSTAMP:20260424T160222
CREATED:20250113T153130Z
LAST-MODIFIED:20250113T153130Z
UID:1052-1740250800-1740258000@highdesertbits.com
SUMMARY:Ellipse Theater Community presents LIFESPAN OF A FACT
DESCRIPTION:Ellipse Theater Community presents LIFESPAN OF A FACT \nBy Jeffrey Hatcher and Mitch Albom \nBased on the novel by Mitch Albom \nFri.\, 2/21 @ 7pm \nSat.\, 2/22 @2pm and 7pm \nThu.\, 2/27 @ 7pm \nFri.\, 2/28 @ 7pm \nSat.\, 3/1 @ 2pm and 7pm
URL:https://highdesertbits.com/event/ellipse-theater-community-presents-lifespan-of-a-fact-3/
LOCATION:Unity Community Central Oregon\, 63645 Scenic Dr\, Bend\, OR\, 97701
ORGANIZER;CN="ETC Ellipse Theatre Community":MAILTO:https://www.etcbend.org/contact
END:VEVENT
BEGIN:VEVENT
DTSTART;TZID=UTC:20250222T190000
DTEND;TZID=UTC:20250222T210000
DTSTAMP:20260424T160222
CREATED:20250213T170337Z
LAST-MODIFIED:20250213T170337Z
UID:1184-1740250800-1740258000@highdesertbits.com
SUMMARY:Ridgeview High School presents PETER PAN
DESCRIPTION:Ridgeview High School presents PETER PAN \nby J.M. Barrie \nThur.\, Feb 13 @ 7pm \nFri.\, Feb 14 @ 7pm \nSat.\, Feb 15 @ 2pm and 7pm \nThur.\, Feb 20 @ 7pm \nFri.\, Feb 21 @ 7pm \nSat.\, Feb 22 @ 2pm and 7pm
URL:https://highdesertbits.com/event/ridgeview-high-school-presents-peter-pan-8/
LOCATION:Ridgeview High School\, 4555 SW Elkhorn Ave\, Redmond\, OR\, 97756
END:VEVENT
BEGIN:VEVENT
DTSTART;TZID=UTC:20250222T193000
DTEND;TZID=UTC:20250222T213000
DTSTAMP:20260424T160222
CREATED:20250112T032148Z
LAST-MODIFIED:20250112T032148Z
UID:946-1740252600-1740259800@highdesertbits.com
SUMMARY:CTC presents GRAND HORIZONS
DESCRIPTION:CTC presents GRAND HORIZONS \nby Bess Wohl \n_____                                            Thu.\, 2/20 @ 7:30pm                    Thu.\, 2/27 @ 7:30pm \nFri.\, 2/14 @ 7:30pm                    Fri.\, 2/21 @ 7:30pm                      Fri.\, 2/28 @ 7:30pm \nSat.\, 2/15 @ 7:30pm                   Sat.\, 2/22 @ 7:30pm                     Sat.\, 3/1 @ 7:30pm \nSun.\, 2/16 @ 2pm                       Sun.\, 2/23 @ 2pm                         Sun.\, 3/2 @ 2pm
URL:https://highdesertbits.com/event/ctc-presents-grand-horizons-13/
LOCATION:CTC Cascade Theatrical Company\, 148 NW Greenwood Ave\, Bend\, OR\, 97703
ORGANIZER;CN="CTC Cascade Theatrical Company":MAILTO:ctcinfo@cascadestheatrical.org
END:VEVENT
END:VCALENDAR