BEGIN:VCALENDAR
VERSION:2.0
PRODID:-//High Desert B.I.T.S. - ECPv6.15.20//NONSGML v1.0//EN
CALSCALE:GREGORIAN
METHOD:PUBLISH
X-WR-CALNAME:High Desert B.I.T.S.
X-ORIGINAL-URL:https://highdesertbits.com
X-WR-CALDESC:Events for High Desert B.I.T.S.
REFRESH-INTERVAL;VALUE=DURATION:PT1H
X-Robots-Tag:noindex
X-PUBLISHED-TTL:PT1H
BEGIN:VTIMEZONE
TZID:UTC
BEGIN:STANDARD
TZOFFSETFROM:+0000
TZOFFSETTO:+0000
TZNAME:UTC
DTSTART:20240101T000000
END:STANDARD
END:VTIMEZONE
BEGIN:VEVENT
DTSTART;TZID=UTC:20250301T140000
DTEND;TZID=UTC:20250301T160000
DTSTAMP:20260424T142233
CREATED:20250113T153528Z
LAST-MODIFIED:20250113T153528Z
UID:1058-1740837600-1740844800@highdesertbits.com
SUMMARY:Ellipse Theater Community presents LIFESPAN OF A FACT
DESCRIPTION:Ellipse Theater Community presents LIFESPAN OF A FACT \nBy Jeffrey Hatcher and Mitch Albom \nBased on the novel by Mitch Albom \nFri.\, 2/21 @ 7pm \nSat.\, 2/22 @2pm and 7pm \nThu.\, 2/27 @ 7pm \nFri.\, 2/28 @ 7pm \nSat.\, 3/1 @ 2pm and 7pm
URL:https://highdesertbits.com/event/ellipse-theater-community-presents-lifespan-of-a-fact-6/
LOCATION:Unity Community Central Oregon\, 63645 Scenic Dr\, Bend\, OR\, 97701
ORGANIZER;CN="ETC Ellipse Theatre Community":MAILTO:https://www.etcbend.org/contact
END:VEVENT
BEGIN:VEVENT
DTSTART;TZID=UTC:20250301T190000
DTEND;TZID=UTC:20250301T210000
DTSTAMP:20260424T142233
CREATED:20250113T022113Z
LAST-MODIFIED:20250113T022113Z
UID:1030-1740855600-1740862800@highdesertbits.com
SUMMARY:Mountain View High School presents MATILDA\, the Musical
DESCRIPTION:Mountain View High School presents MATILDA\, the Musical \nBased on the 1988 book by Roald Dahl \nMusic and lyrics by Tim Minchin and book by Dennis Kelly \nFri.\, 2/28  @ 7pm \nSat.\, 3/1 @ 7pm  \nSun.\, 3/2 @ 2pm \n  \nFri.\, 3/7 @ 7pm \nSat.\, 3/8 @ 7pm \nSun.\, 3/9 @ 2pm
URL:https://highdesertbits.com/event/mountain-view-high-school-presents-matilda-the-musical-2/
LOCATION:Mt. View High School\, 2755 NE 27th St\,\, Bend\, OR\, 97701\, United States
END:VEVENT
BEGIN:VEVENT
DTSTART;TZID=UTC:20250301T190000
DTEND;TZID=UTC:20250301T210000
DTSTAMP:20260424T142233
CREATED:20250113T153648Z
LAST-MODIFIED:20250113T153648Z
UID:1060-1740855600-1740862800@highdesertbits.com
SUMMARY:Ellipse Theater Community presents LIFESPAN OF A FACT
DESCRIPTION:Ellipse Theater Community presents LIFESPAN OF A FACT \nBy Jeffrey Hatcher and Mitch Albom \nBased on the novel by Mitch Albom \nFri.\, 2/21 @ 7pm \nSat.\, 2/22 @2pm and 7pm \nThu.\, 2/27 @ 7pm \nFri.\, 2/28 @ 7pm \nSat.\, 3/1 @ 2pm and 7pm
URL:https://highdesertbits.com/event/ellipse-theater-community-presents-lifespan-of-a-fact-7/
LOCATION:Unity Community Central Oregon\, 63645 Scenic Dr\, Bend\, OR\, 97701
ORGANIZER;CN="ETC Ellipse Theatre Community":MAILTO:https://www.etcbend.org/contact
END:VEVENT
BEGIN:VEVENT
DTSTART;TZID=UTC:20250301T193000
DTEND;TZID=UTC:20250301T213000
DTSTAMP:20260424T142233
CREATED:20240928T145219Z
LAST-MODIFIED:20240928T145219Z
UID:476-1740857400-1740864600@highdesertbits.com
SUMMARY:CTC presents GRAND HORIZONS
DESCRIPTION:CTC presents Grand Horizons by Sean Grennan \nRomantic Comedy \nFeb 14-March 2\, 2024
URL:https://highdesertbits.com/event/ctc-presents-grand-horizons-7/
LOCATION:CTC Cascade Theatrical Company\, 148 NW Greenwood Ave\, Bend\, OR\, 97703
END:VEVENT
END:VCALENDAR