BEGIN:VCALENDAR
VERSION:2.0
PRODID:-//High Desert B.I.T.S. - ECPv6.15.20//NONSGML v1.0//EN
CALSCALE:GREGORIAN
METHOD:PUBLISH
X-ORIGINAL-URL:https://highdesertbits.com
X-WR-CALDESC:Events for High Desert B.I.T.S.
REFRESH-INTERVAL;VALUE=DURATION:PT1H
X-Robots-Tag:noindex
X-PUBLISHED-TTL:PT1H
BEGIN:VTIMEZONE
TZID:UTC
BEGIN:STANDARD
TZOFFSETFROM:+0000
TZOFFSETTO:+0000
TZNAME:UTC
DTSTART:20240101T000000
END:STANDARD
END:VTIMEZONE
BEGIN:VEVENT
DTSTART;TZID=UTC:20250407T180000
DTEND;TZID=UTC:20250407T210000
DTSTAMP:20260424T124758
CREATED:20250325T210717Z
LAST-MODIFIED:20250325T210717Z
UID:1330-1744048800-1744059600@highdesertbits.com
SUMMARY:AUDITONS for CTC's CAT ON A HOT TIN ROOF
DESCRIPTION:AUDITONS for CTC’s CAT ON A HOT TIN ROOF \nBy Tennessee Williams \nMon.\, 4/7 6-9pm \nTue.\, 4/8 6-9pm
URL:https://highdesertbits.com/event/auditons-for-ctcs-cat-on-a-hot-tin-roof/
LOCATION:CTC Cascade Theatrical Company\, 148 NW Greenwood Ave\, Bend\, OR\, 97703
ORGANIZER;CN="CTC Cascade Theatrical Company":MAILTO:ctcinfo@cascadestheatrical.org
END:VEVENT
END:VCALENDAR