BEGIN:VCALENDAR
VERSION:2.0
PRODID:-//High Desert B.I.T.S. - ECPv6.15.20//NONSGML v1.0//EN
CALSCALE:GREGORIAN
METHOD:PUBLISH
X-ORIGINAL-URL:https://highdesertbits.com
X-WR-CALDESC:Events for High Desert B.I.T.S.
REFRESH-INTERVAL;VALUE=DURATION:PT1H
X-Robots-Tag:noindex
X-PUBLISHED-TTL:PT1H
BEGIN:VTIMEZONE
TZID:UTC
BEGIN:STANDARD
TZOFFSETFROM:+0000
TZOFFSETTO:+0000
TZNAME:UTC
DTSTART:20240101T000000
END:STANDARD
END:VTIMEZONE
BEGIN:VEVENT
DTSTART;TZID=UTC:20250419T080000
DTEND;TZID=UTC:20250419T170000
DTSTAMP:20260424T124758
CREATED:20250112T173401Z
LAST-MODIFIED:20250112T173401Z
UID:975-1745049600-1745082000@highdesertbits.com
SUMMARY:Greenhouse Cabaret presents NEXT TO NORMAL
DESCRIPTION:Greenhouse Cabaret presents NEXT TO NORMAL \nMusic by Tom Kitt\, lyrics and book by Brian Yorkey \n___                                              Thu.\, 4/17 @ 7:30pm                  Thu.\, 5/1 @ 7:30pm \nFri.\, 4/4 @ 7:30pm                        Fri.\, 4/18 @ 7:30pm                   Fri.\, 5/2 @ 7:30pm \nSat.\, 4/5 @ 7:30pm                       Sat.\, 4/19 @ 7:30pm                    Sat.\, 5/3 @ 7:30pm \nSun.\, 4/6 @ 7:30pm                      Sun.\, 4/20 7:30pm \n  \nThu.\, 4/10 @ 7:30                        Thu.\, 4/24 @ 7:30pm \nFri.\, 4/11 @ 7:30pm                   Fri.\, 4/25 @ 7:30pm \nSat.\, 4/12 @ 7:30pm                    Sat.\, 4/26 @ 7:30pm \nSun.\, 4/13 @ 7:30pm                    Sun.\, 4/27 @ 7:30pm \nDirected by founder John Kish and Greenhouse returnee Josh Curtis (Proof)\, music directed by Natalie True (Sweeney Todd). \nAge recommendation: 14+ \nPlease note: This production contains some adult topics\, including depictions of various mental health conditions and disorders\, suicide\, themes of bereavement\, and strong language.
URL:https://highdesertbits.com/event/greenhouse-cabaret-presents-next-to-normal-9/
LOCATION:Greenhouse Cabaret\, 1017 NE 2nd St.\, Bend\, OR\, 97701\, United States
END:VEVENT
BEGIN:VEVENT
DTSTART;TZID=UTC:20250419T140000
DTEND;TZID=UTC:20250419T160000
DTSTAMP:20260424T124758
CREATED:20250110T164013Z
LAST-MODIFIED:20250211T233753Z
UID:871-1745071200-1745078400@highdesertbits.com
SUMMARY:Redmond High School presents  25th ANNUAL PUTNAM COUNTY SPELLING BEE
DESCRIPTION:Redmond High School presents 25th ANNUAL PUTNAM COUNTY SPELLING BEE \n  \nThu.\, 4/17 Spring Musical 7pm               Thu.\,  4/24 Spring Musical 7pm \nFri.\, 4/18 Spring Musical 7pm                  Fri.\, 4/25 Spring Musical 7pm \nSat.\, 4/19 Spring Musical 2pm                  Sat.\, 4/26  Spring Musical 2pm \nSat.\, 4/19 Spring Musical 7pm                 Sat.\, 4/26  Spring Musical 7pm
URL:https://highdesertbits.com/event/redmond-high-school-presents-spring-musical-tbd-2/
LOCATION:Redmond High School\, 675 SW Rimrock Way\, Redmond\, OR\, 97756
END:VEVENT
BEGIN:VEVENT
DTSTART;TZID=UTC:20250419T153000
DTEND;TZID=UTC:20250419T173000
DTSTAMP:20260424T124758
CREATED:20250111T021506Z
LAST-MODIFIED:20250111T021506Z
UID:901-1745076600-1745083800@highdesertbits.com
SUMMARY:RPA presents FROZEN JR.
DESCRIPTION:RPA presents FROZEN JR \nFri.\, 4/18  @ 6pm \nSat.\, 4/19 @  3:30pm \nThu.\,  4/24  @ 6pm \nFri.\,  4/25  @ 6pm \nSat.\, 4/26  @ 3:30pm
URL:https://highdesertbits.com/event/rpa-presents-frozen-jr-2/
LOCATION:RPA at McClay Center of the Performing Arts\, 640 SW Evrgreen Ave\, Redmond\, OR\, 97756\, United States
END:VEVENT
BEGIN:VEVENT
DTSTART;TZID=UTC:20250419T190000
DTEND;TZID=UTC:20250419T210000
DTSTAMP:20260424T124758
CREATED:20250110T164140Z
LAST-MODIFIED:20250211T233918Z
UID:873-1745089200-1745096400@highdesertbits.com
SUMMARY:Redmond High School presents  25th ANNUAL PUTNAM COUNTY SPELLING BEE
DESCRIPTION:Redmond High School presents 25th ANNUAL PUTNAM COUNTY SPELLING BEE \n  \nThu.\, 4/17 Spring Musical 7pm                Thu.\,  4/24 Spring Musical 7pm \nFri.\, 4/18 Spring Musical 7pm                  Fri.\, 4/25 Spring Musical 7pm \nSat.\, 4/19 Spring Musical 2pm                  Sat.\, 4/26  Spring Musical 2pm \nSat.\, 4/19 Spring Musical 7pm                 Sat.\, 4/26  Spring Musical 7pm
URL:https://highdesertbits.com/event/redmond-high-school-presents-spring-musical-tbd-3/
LOCATION:Redmond High School\, 675 SW Rimrock Way\, Redmond\, OR\, 97756
END:VEVENT
END:VCALENDAR