BEGIN:VCALENDAR
VERSION:2.0
PRODID:-//High Desert B.I.T.S. - ECPv6.15.20//NONSGML v1.0//EN
CALSCALE:GREGORIAN
METHOD:PUBLISH
X-WR-CALNAME:High Desert B.I.T.S.
X-ORIGINAL-URL:https://highdesertbits.com
X-WR-CALDESC:Events for High Desert B.I.T.S.
REFRESH-INTERVAL;VALUE=DURATION:PT1H
X-Robots-Tag:noindex
X-PUBLISHED-TTL:PT1H
BEGIN:VTIMEZONE
TZID:UTC
BEGIN:STANDARD
TZOFFSETFROM:+0000
TZOFFSETTO:+0000
TZNAME:UTC
DTSTART:20240101T000000
END:STANDARD
END:VTIMEZONE
BEGIN:VEVENT
DTSTART;TZID=UTC:20250504T000000
DTEND;TZID=UTC:20250504T235959
DTSTAMP:20260424T111656
CREATED:20250211T222744Z
LAST-MODIFIED:20250211T222744Z
UID:1147-1746316800-1746403199@highdesertbits.com
SUMMARY:AUDITIONS for ROCK OF AGES with Theater in the Park
DESCRIPTION:AUDITIONS for ROCK OF AGES with Theater in the Park \nBook by Chris D’Arienzo\, arrangements and orchestrations by Ethan Popp \n  \nSat.\, May 3 \nSun.\, May 4
URL:https://highdesertbits.com/event/auditions-for-rock-of-ages-with-theater-in-the-park-2/
LOCATION:Theatre in the Park\, Drake Park\, Bend\, OR\, 97701\, United States
ORGANIZER;CN="Theatre in the Park":MAILTO:info@layitoutevents.com
END:VEVENT
END:VCALENDAR