BEGIN:VCALENDAR
VERSION:2.0
PRODID:-//High Desert B.I.T.S. - ECPv6.15.20//NONSGML v1.0//EN
CALSCALE:GREGORIAN
METHOD:PUBLISH
X-ORIGINAL-URL:https://highdesertbits.com
X-WR-CALDESC:Events for High Desert B.I.T.S.
REFRESH-INTERVAL;VALUE=DURATION:PT1H
X-Robots-Tag:noindex
X-PUBLISHED-TTL:PT1H
BEGIN:VTIMEZONE
TZID:UTC
BEGIN:STANDARD
TZOFFSETFROM:+0000
TZOFFSETTO:+0000
TZNAME:UTC
DTSTART:20240101T000000
END:STANDARD
END:VTIMEZONE
BEGIN:VEVENT
DTSTART;TZID=UTC:20250510T000000
DTEND;TZID=UTC:20250510T235959
DTSTAMP:20260424T111738
CREATED:20250211T215206Z
LAST-MODIFIED:20250211T215206Z
UID:1139-1746835200-1746921599@highdesertbits.com
SUMMARY:Trinity Lutheran presents GUYS AND DOLLS
DESCRIPTION:Trinity Lutheran presents GUYS AND DOLLS \nMusic by Frank Loesser and book by Jo Swerling and Abe Burrows \nFri.\, May 9 \nSat.\, May 10 \nSun.\, May 11
URL:https://highdesertbits.com/event/trinity-lutheran-presents-guys-and-dolls-2/
LOCATION:Trinity Lutheran High School\, 2550 NE Butler Market Rd\, Bend\, OR\, 97701\, United States
END:VEVENT
BEGIN:VEVENT
DTSTART;TZID=UTC:20250510T140000
DTEND;TZID=UTC:20250510T160000
DTSTAMP:20260424T111738
CREATED:20250429T035322Z
LAST-MODIFIED:20250429T035322Z
UID:1362-1746885600-1746892800@highdesertbits.com
SUMMARY:Ellipse Theater Community presents TINY BEAUTIFUL THINGS
DESCRIPTION:Ellipse Theater Community presents TINY BEAUTIFUL THINGS \nWritten by Arlene Hutton \nThis production is part of the ETC Roadshow Program which sees our productions touring across multiple venues throughout Central Oregon. \nBend (Open Space Theatre) \nFri.\, May 9 @ 7pm \nSat.\, May 10 @ 2pm and 7pm \nRedmond (High Desert Music Hall) \nSun.\, May 11 @ 2pm and 7pm \nSisters (Susters Firehouse Community Hall) \nSat.\, May 17 @ 2pm and 7pm \nPrineville (Bowman Museum) \nSun.\, 5/18 @ 2pm \nBend (OSU Cascade Campus) \nFri.\, May 30 @ 7pm \nSat.\, 5/31 @ 2pm and 7pm
URL:https://highdesertbits.com/event/ellipse-theater-community-presents-tiny-beautiful-things-2/
LOCATION:Open Space Event Studio\, 220 NE Lafayette Ave\, Bend\, OR\, 97701
ORGANIZER;CN="ETC Ellipse Theatre Community":MAILTO:https://www.etcbend.org/contact
END:VEVENT
BEGIN:VEVENT
DTSTART;TZID=UTC:20250510T140000
DTEND;TZID=UTC:20250510T160000
DTSTAMP:20260424T111738
CREATED:20250429T211119Z
LAST-MODIFIED:20250429T211119Z
UID:1393-1746885600-1746892800@highdesertbits.com
SUMMARY:Deschutes Theater Company presents THE FOREIGNER
DESCRIPTION:Deschutes Theater Company presents THE FOREIGNER by Larry Shue \nFri.\, May 2nd @ 7:30pm \nSat.\, May 3rd @ 7:30pm \nThu.\, May 8tth @ 7:30pm \nFri.\, May 9th @ 7:30pm \nSat.\, May 10th @ 2pm and 7:30 \nUnity Spiritual Community of Central Oregon
URL:https://highdesertbits.com/event/deschutes-theater-company-presents-the-foreigner-5/
LOCATION:Unity Community Central Oregon\, 63645 Scenic Dr\, Bend\, OR\, 97701
ORGANIZER;CN="Deschutes Community Theater":MAILTO:deschutestheatercompany@gmail.com
END:VEVENT
BEGIN:VEVENT
DTSTART;TZID=UTC:20250510T140000
DTEND;TZID=UTC:20250510T163000
DTSTAMP:20260424T111738
CREATED:20250429T215617Z
LAST-MODIFIED:20250429T215617Z
UID:1399-1746885600-1746894600@highdesertbits.com
SUMMARY:Trinity Lutheran presents GUYS AND DOLLS
DESCRIPTION:Trinity Lutheran presents GUYS AND DOLLS \nMusic and lyrics by Frank Loesser and book by Jo Swerling and Abe Burrows \nTrinity Lutheran HS \nFri.\, May 9th @ 7pm \nSat.\, May 10th @ 2pm and 7pm \nSun.\, May 11th @ 2pm
URL:https://highdesertbits.com/event/trinity-lutheran-presents-guys-and-dolls-5/
LOCATION:Trinity Lutheran High School\, 2550 NE Butler Market Rd\, Bend\, OR\, 97701\, United States
END:VEVENT
BEGIN:VEVENT
DTSTART;TZID=UTC:20250510T190000
DTEND;TZID=UTC:20250510T210000
DTSTAMP:20260424T111738
CREATED:20250201T032159Z
LAST-MODIFIED:20250201T032159Z
UID:1099-1746903600-1746910800@highdesertbits.com
SUMMARY:Caldera High School presents ANYTHING GOES!
DESCRIPTION:Caldera High School presents ANYTHING GOES! \nMusic and lyrics by Cole Porter. Book was a collaborative effort by Guy Bolton and P.G. Wodehouse \nThu.\, May 8 Time TBD \nSat.\, May 10 Time TBD \nMay 16 \nMat 17
URL:https://highdesertbits.com/event/caldera-high-school-presents-anything-goes-2/
LOCATION:Caldera High School\, 60925 SE 15th St\,\, Bend\, OR\, 97702\, United States
END:VEVENT
BEGIN:VEVENT
DTSTART;TZID=UTC:20250510T190000
DTEND;TZID=UTC:20250510T210000
DTSTAMP:20260424T111738
CREATED:20250429T035536Z
LAST-MODIFIED:20250429T035536Z
UID:1364-1746903600-1746910800@highdesertbits.com
SUMMARY:Ellipse Theater Community presents TINY BEAUTIFUL THINGS
DESCRIPTION:Ellipse Theater Community presents TINY BEAUTIFUL THINGS \nWritten by Arlene Hutton \nThis production is part of the ETC Roadshow Program which sees our productions touring across multiple venues throughout Central Oregon. \nBend (Open Space Theatre) \nFri.\, May 9 @ 7pm \nSat.\, May 10 @ 2pm and 7pm \nRedmond (High Desert Music Hall) \nSun.\, May 11 @ 2pm and 7pm \nSisters (Susters Firehouse Community Hall) \nSat.\, May 17 @ 2pm and 7pm \nPrineville (Bowman Museum) \nSun.\, 5/18 @ 2pm \nBend (OSU Cascade Campus) \nFri.\, May 30 @ 7pm \nSat.\, 5/31 @ 2pm and 7pm
URL:https://highdesertbits.com/event/ellipse-theater-community-presents-tiny-beautiful-things-3/
LOCATION:Open Space Event Studio\, 220 NE Lafayette Ave\, Bend\, OR\, 97701
ORGANIZER;CN="ETC Ellipse Theatre Community":MAILTO:https://www.etcbend.org/contact
END:VEVENT
BEGIN:VEVENT
DTSTART;TZID=UTC:20250510T190000
DTEND;TZID=UTC:20250510T210000
DTSTAMP:20260424T111738
CREATED:20250429T224359Z
LAST-MODIFIED:20250429T224359Z
UID:1429-1746903600-1746910800@highdesertbits.com
SUMMARY:Crook County High School presents LITTLE SHOP OF HORRORS
DESCRIPTION:Crook County High School presents LITTLE SHOP OF HORRORS \nMusic by Alan Menken\, book and lyrics by Howard Ashman \nThu.\, May 8th @ 7pm \nFri.\, May 9th @ 7pm \nSat.\, May 10th @ 7 pm \nSun.\, May 11th @ 2pm \n$5 students/seniors \n$10 General adminssion at the door
URL:https://highdesertbits.com/event/crook-county-high-school-presents-little-shop-of-horrors-7/
LOCATION:Crook County High School\, 1100 SE Lynn Blvd\, Prineville\, OR\, 97754
END:VEVENT
BEGIN:VEVENT
DTSTART;TZID=UTC:20250510T190000
DTEND;TZID=UTC:20250510T213000
DTSTAMP:20260424T111738
CREATED:20250429T215734Z
LAST-MODIFIED:20250429T215734Z
UID:1401-1746903600-1746912600@highdesertbits.com
SUMMARY:Trinity Lutheran presents GUYS AND DOLLS
DESCRIPTION:Trinity Lutheran presents GUYS AND DOLLS \nMusic and lyrics by Frank Loesser and book by Jo Swerling and Abe Burrows \nTrinity Lutheran HS \nFri.\, May 9th @ 7pm \nSat.\, May 10th @ 2pm and 7pm \nSun.\, May 11th @ 2pm
URL:https://highdesertbits.com/event/trinity-lutheran-presents-guys-and-dolls-6/
LOCATION:Trinity Lutheran High School\, 2550 NE Butler Market Rd\, Bend\, OR\, 97701\, United States
END:VEVENT
BEGIN:VEVENT
DTSTART;TZID=UTC:20250510T193000
DTEND;TZID=UTC:20250510T213000
DTSTAMP:20260424T111738
CREATED:20250429T211445Z
LAST-MODIFIED:20250429T211445Z
UID:1395-1746905400-1746912600@highdesertbits.com
SUMMARY:
DESCRIPTION:Deschutes Theater Company presents THE FOREIGNER by Larry Shue \nFri.\, May 2nd @ 7:30pm \nSat.\, May 3rd @ 7:30pm \nThu.\, May 8tth @ 7:30pm \nFri.\, May 9th @ 7:30pm \nSat.\, May 10th @ 2pm and 7:30 \nUnity Spiritual Community of Central Oregon
URL:https://highdesertbits.com/event/1395/
LOCATION:Unity Community Central Oregon\, 63645 Scenic Dr\, Bend\, OR\, 97701
ORGANIZER;CN="Deschutes Community Theater":MAILTO:deschutestheatercompany@gmail.com
END:VEVENT
END:VCALENDAR