BEGIN:VCALENDAR
VERSION:2.0
PRODID:-//High Desert B.I.T.S. - ECPv6.15.20//NONSGML v1.0//EN
CALSCALE:GREGORIAN
METHOD:PUBLISH
X-ORIGINAL-URL:https://highdesertbits.com
X-WR-CALDESC:Events for High Desert B.I.T.S.
REFRESH-INTERVAL;VALUE=DURATION:PT1H
X-Robots-Tag:noindex
X-PUBLISHED-TTL:PT1H
BEGIN:VTIMEZONE
TZID:UTC
BEGIN:STANDARD
TZOFFSETFROM:+0000
TZOFFSETTO:+0000
TZNAME:UTC
DTSTART:20240101T000000
END:STANDARD
END:VTIMEZONE
BEGIN:VEVENT
DTSTART;TZID=UTC:20250516T000000
DTEND;TZID=UTC:20250516T235959
DTSTAMP:20260424T111737
CREATED:20250210T135816Z
LAST-MODIFIED:20250210T135816Z
UID:1125-1747353600-1747439999@highdesertbits.com
SUMMARY:BEAT Childrens Theatre presents ALICE IN WONDERLAND
DESCRIPTION:BEAT Childrens Theatre presents ALICE IN WONDERLAND \nBased on the novel by Lewis Carrol \nMay 16 \nMay 17 \nMay 18
URL:https://highdesertbits.com/event/beat-childrens-theatre-presents-alice-in-wonderland/
LOCATION:OR
END:VEVENT
BEGIN:VEVENT
DTSTART;TZID=UTC:20250516T080000
DTEND;TZID=UTC:20250516T170000
DTSTAMP:20260424T111737
CREATED:20250429T220701Z
LAST-MODIFIED:20250429T220701Z
UID:1405-1747382400-1747414800@highdesertbits.com
SUMMARY:BEAT Children's Theatre presents ALICE IN WONDERLAND
DESCRIPTION:BEAT Children’s Theatre presents ALICE IN WONDERLAND \nAn original new play by Heidi Spiker\, directed by Ann Boyd. Music and lyrics by Giovanni Capucci and Christie Capucci. Based on the covel by Lewis Carroll. \nFri.\, May 16th @ 7pm \nSat.\, May 17th @ 2pm and 7pm \nSun.\,May 18th @ 2pm \nAt Summit High School
URL:https://highdesertbits.com/event/beat-childrens-theatre-presents-alice-in-wonderland-4/
LOCATION:Summit High School\, 2855 NW Clearwater Dr\,\, Bend\, OR\, 97703\, United States
END:VEVENT
BEGIN:VEVENT
DTSTART;TZID=UTC:20250516T190000
DTEND;TZID=UTC:20250516T210000
DTSTAMP:20260424T111737
CREATED:20250201T032339Z
LAST-MODIFIED:20250201T032339Z
UID:1101-1747422000-1747429200@highdesertbits.com
SUMMARY:Caldera High School presents ANYTHING GOES!
DESCRIPTION:Caldera High School presents ANYTHING GOES! \nMusic and lyrics by Cole Porter. Book was a collaborative effort by Guy Bolton and P.G. Wodehouse \nThu.\, May 8 Time TBD \nSat.\, May 10 Time TBD \nFri.\, May 16 Time TBD \nMat 17
URL:https://highdesertbits.com/event/caldera-high-school-presents-anything-goes-3/
LOCATION:Caldera High School\, 60925 SE 15th St\,\, Bend\, OR\, 97702\, United States
END:VEVENT
BEGIN:VEVENT
DTSTART;TZID=UTC:20250516T193000
DTEND;TZID=UTC:20250516T213000
DTSTAMP:20260424T111737
CREATED:20250429T221945Z
LAST-MODIFIED:20250429T221945Z
UID:1415-1747423800-1747431000@highdesertbits.com
SUMMARY:Thoroughly Modern Productions presents MEAN GIRLS
DESCRIPTION:Thoroughly Modern Productions presents MEAN GIRLS at the Tower Theatre \nBook by Tina Fey\, lyrics by Nell Benjamin\, and music by Jeff Richmond \n  \nThu.\, May 15th @ 7:30pm \nFri.\, May 16th @ 7:30pm \nSat.\, May 17th @ 2pm and 7:30pm \nSun.\, May 18th @ 2pm and 7:30pm
URL:https://highdesertbits.com/event/thoroughly-modern-productions-presents-mean-girls-2/
LOCATION:Tower Theatre\, 835 NW Wall St\, Bend\, OR\, 97703\, United States
ORGANIZER;CN="TMP Thoroughly Modern Productions":MAILTO:tmpbend@gmail.com
END:VEVENT
BEGIN:VEVENT
DTSTART;TZID=UTC:20250516T193000
DTEND;TZID=UTC:20250516T213000
DTSTAMP:20260424T111737
CREATED:20250512T151505Z
LAST-MODIFIED:20250512T151505Z
UID:1442-1747423800-1747431000@highdesertbits.com
SUMMARY:CTC presents GREASE
DESCRIPTION:CTC presents GREASE \nBook\, Music and Lyrics by Jim Jacobs and Warren Casey \n  \nThu.\, May 15 @ 7:30 \nFri.\, May 16 @ 7:30pm \nSat.\, May 17 @ 7:30pm \nSun.\, May 18 @ 2pm \n  \nThu.\, May 22 @ 7:30 \nFri.\, May 23 @ 7:30pm \nSat.\, May 24 @ 7:30pm \nSun.\, May 25 @ 2pm
URL:https://highdesertbits.com/event/ctc-presents-grease-2/
LOCATION:CTC Cascade Theatrical Company\, 148 NW Greenwood Ave\, Bend\, OR\, 97703
ORGANIZER;CN="CTC Cascade Theatrical Company":MAILTO:ctcinfo@cascadestheatrical.org
END:VEVENT
END:VCALENDAR