BEGIN:VCALENDAR
VERSION:2.0
PRODID:-//High Desert B.I.T.S. - ECPv6.15.20//NONSGML v1.0//EN
CALSCALE:GREGORIAN
METHOD:PUBLISH
X-ORIGINAL-URL:https://highdesertbits.com
X-WR-CALDESC:Events for High Desert B.I.T.S.
REFRESH-INTERVAL;VALUE=DURATION:PT1H
X-Robots-Tag:noindex
X-PUBLISHED-TTL:PT1H
BEGIN:VTIMEZONE
TZID:UTC
BEGIN:STANDARD
TZOFFSETFROM:+0000
TZOFFSETTO:+0000
TZNAME:UTC
DTSTART:20240101T000000
END:STANDARD
END:VTIMEZONE
BEGIN:VEVENT
DTSTART;TZID=UTC:20250517T140000
DTEND;TZID=UTC:20250517T160000
DTSTAMP:20260424T111650
CREATED:20250429T040207Z
LAST-MODIFIED:20250429T040207Z
UID:1370-1747490400-1747497600@highdesertbits.com
SUMMARY:Ellipse Theater Community presents TINY BEAUTIFUL THINGS
DESCRIPTION:Ellipse Theater Community presents TINY BEAUTIFUL THINGS \nWritten by Arlene Hutton \nThis production is part of the ETC Roadshow Program which sees our productions touring across multiple venues throughout Central Oregon. \nBend (Open Space Theatre) \nFri.\, May 9 @ 7pm \nSat.\, May 10 @ 2pm and 7pm \nRedmond (High Desert Music Hall) \nSun.\, May 11 @ 2pm and 7pm \nSisters (Susters Firehouse Community Hall) \nSat.\, May 17 @ 2pm and 7pm \nPrineville (Bowman Museum) \nSun.\, 5/18 @ 2pm \nBend (OSU Cascade Campus) \nFri.\, May 30 @ 7pm \nSat.\, 5/31 @ 2pm and 7pm
URL:https://highdesertbits.com/event/ellipse-theater-community-presents-tiny-beautiful-things-6/
LOCATION:Sisters Firehouse Community Hall\, 301 S Elm St\, Sisters\, Oregon\, 57759
ORGANIZER;CN="ETC Ellipse Theatre Community":MAILTO:https://www.etcbend.org/contact
END:VEVENT
BEGIN:VEVENT
DTSTART;TZID=UTC:20250517T140000
DTEND;TZID=UTC:20250517T160000
DTSTAMP:20260424T111650
CREATED:20250429T220855Z
LAST-MODIFIED:20250429T220855Z
UID:1407-1747490400-1747497600@highdesertbits.com
SUMMARY:BEAT Children's Theatre presents ALICE IN WONDERLAND
DESCRIPTION:BEAT Children’s Theatre presents ALICE IN WONDERLAND \nAn original new play by Heidi Spiker\, directed by Ann Boyd. Music and lyrics by Giovanni Capucci and Christie Capucci. Based on the covel by Lewis Carroll. \nFri.\, May 16th @ 7pm \nSat.\, May 17th @ 2pm and 7pm \nSun.\,May 18th @ 2pm \nAt Summit High School
URL:https://highdesertbits.com/event/beat-childrens-theatre-presents-alice-in-wonderland-5/
LOCATION:Summit High School\, 2855 NW Clearwater Dr\,\, Bend\, OR\, 97703\, United States
END:VEVENT
BEGIN:VEVENT
DTSTART;TZID=UTC:20250517T140000
DTEND;TZID=UTC:20250517T160000
DTSTAMP:20260424T111650
CREATED:20250429T222128Z
LAST-MODIFIED:20250429T222128Z
UID:1417-1747490400-1747497600@highdesertbits.com
SUMMARY:Thoroughly Modern Productions presents MEAN GIRLS
DESCRIPTION:Thoroughly Modern Productions presents MEAN GIRLS at the Tower Theatre \nBook by Tina Fey\, lyrics by Nell Benjamin\, and music by Jeff Richmond \n  \nThu.\, May 15th @ 7:30pm \nFri.\, May 16th @ 7:30pm \nSat.\, May 17th @ 2pm and 7:30pm \nSun.\, May 18th @ 2pm and 7:30pm
URL:https://highdesertbits.com/event/thoroughly-modern-productions-presents-mean-girls-3/
LOCATION:Tower Theatre\, 835 NW Wall St\, Bend\, OR\, 97703\, United States
ORGANIZER;CN="TMP Thoroughly Modern Productions":MAILTO:tmpbend@gmail.com
END:VEVENT
BEGIN:VEVENT
DTSTART;TZID=UTC:20250517T190000
DTEND;TZID=UTC:20250517T210000
DTSTAMP:20260424T111650
CREATED:20250201T032504Z
LAST-MODIFIED:20250201T032504Z
UID:1103-1747508400-1747515600@highdesertbits.com
SUMMARY:Caldera High School presents ANYTHING GOES!
DESCRIPTION:Caldera High School presents ANYTHING GOES! \nMusic and lyrics by Cole Porter. Book was a collaborative effort by Guy Bolton and P.G. Wodehouse \nThu.\, May 8 Time TBD \nSat.\, May 10 Time TBD \nFri.\, May 16 Time TBD \nSat.\, Mat 17 Time TBD
URL:https://highdesertbits.com/event/caldera-high-school-presents-anything-goes-4/
LOCATION:Caldera High School\, 60925 SE 15th St\,\, Bend\, OR\, 97702\, United States
END:VEVENT
BEGIN:VEVENT
DTSTART;TZID=UTC:20250517T190000
DTEND;TZID=UTC:20250517T210000
DTSTAMP:20260424T111650
CREATED:20250429T040351Z
LAST-MODIFIED:20250429T040351Z
UID:1373-1747508400-1747515600@highdesertbits.com
SUMMARY:Ellipse Theater Community presents TINY BEAUTIFUL THINGS
DESCRIPTION:Ellipse Theater Community presents TINY BEAUTIFUL THINGS \nWritten by Arlene Hutton \nThis production is part of the ETC Roadshow Program which sees our productions touring across multiple venues throughout Central Oregon. \nBend (Open Space Theatre) \nFri.\, May 9 @ 7pm \nSat.\, May 10 @ 2pm and 7pm \nRedmond (High Desert Music Hall) \nSun.\, May 11 @ 2pm and 7pm \nSisters (Susters Firehouse Community Hall) \nSat.\, May 17 @ 2pm and 7pm \nPrineville (Bowman Museum) \nSun.\, 5/18 @ 2pm \nBend (OSU Cascade Campus) \nFri.\, May 30 @ 7pm \nSat.\, 5/31 @ 2pm and 7pm
URL:https://highdesertbits.com/event/ellipse-theater-community-presents-tiny-beautiful-things-7/
LOCATION:Sisters Firehouse Community Hall\, 301 S Elm St\, Sisters\, Oregon\, 57759
ORGANIZER;CN="ETC Ellipse Theatre Community":MAILTO:https://www.etcbend.org/contact
END:VEVENT
BEGIN:VEVENT
DTSTART;TZID=UTC:20250517T190000
DTEND;TZID=UTC:20250517T210000
DTSTAMP:20260424T111650
CREATED:20250429T221016Z
LAST-MODIFIED:20250429T221016Z
UID:1409-1747508400-1747515600@highdesertbits.com
SUMMARY:BEAT Children's Theatre presents ALICE IN WONDERLAND
DESCRIPTION:BEAT Children’s Theatre presents ALICE IN WONDERLAND \nAn original new play by Heidi Spiker\, directed by Ann Boyd. Music and lyrics by Giovanni Capucci and Christie Capucci. Based on the covel by Lewis Carroll. \nFri.\, May 16th @ 7pm \nSat.\, May 17th @ 2pm and 7pm \nSun.\,May 18th @ 2pm \nAt Summit High School
URL:https://highdesertbits.com/event/beat-childrens-theatre-presents-alice-in-wonderland-6/
LOCATION:Summit High School\, 2855 NW Clearwater Dr\,\, Bend\, OR\, 97703\, United States
END:VEVENT
BEGIN:VEVENT
DTSTART;TZID=UTC:20250517T193000
DTEND;TZID=UTC:20250517T213000
DTSTAMP:20260424T111650
CREATED:20250429T222712Z
LAST-MODIFIED:20250429T222712Z
UID:1419-1747510200-1747517400@highdesertbits.com
SUMMARY:Thoroughly Modern Productions presents MEAN GIRLS
DESCRIPTION:Thoroughly Modern Productions presents MEAN GIRLS at the Tower Theatre \nBook by Tina Fey\, lyrics by Nell Benjamin\, and music by Jeff Richmond \n  \nThu.\, May 15th @ 7:30pm \nFri.\, May 16th @ 7:30pm \nSat.\, May 17th @ 2pm and 7:30pm \nSun.\, May 18th @ 2pm and 7:30pm
URL:https://highdesertbits.com/event/thoroughly-modern-productions-presents-mean-girls-4/
LOCATION:Tower Theatre\, 835 NW Wall St\, Bend\, OR\, 97703\, United States
ORGANIZER;CN="TMP Thoroughly Modern Productions":MAILTO:tmpbend@gmail.com
END:VEVENT
BEGIN:VEVENT
DTSTART;TZID=UTC:20250517T193000
DTEND;TZID=UTC:20250517T213000
DTSTAMP:20260424T111650
CREATED:20250512T151613Z
LAST-MODIFIED:20250512T151613Z
UID:1444-1747510200-1747517400@highdesertbits.com
SUMMARY:CTC presents GREASE
DESCRIPTION:CTC presents GREASE \nBook\, Music and Lyrics by Jim Jacobs and Warren Casey \n  \nThu.\, May 15 @ 7:30 \nFri.\, May 16 @ 7:30pm \nSat.\, May 17 @ 7:30pm \nSun.\, May 18 @ 2pm \n  \nThu.\, May 22 @ 7:30 \nFri.\, May 23 @ 7:30pm \nSat.\, May 24 @ 7:30pm \nSun.\, May 25 @ 2pm
URL:https://highdesertbits.com/event/ctc-presents-grease-3/
LOCATION:CTC Cascade Theatrical Company\, 148 NW Greenwood Ave\, Bend\, OR\, 97703
ORGANIZER;CN="CTC Cascade Theatrical Company":MAILTO:ctcinfo@cascadestheatrical.org
END:VEVENT
END:VCALENDAR