BEGIN:VCALENDAR
VERSION:2.0
PRODID:-//High Desert B.I.T.S. - ECPv6.15.20//NONSGML v1.0//EN
CALSCALE:GREGORIAN
METHOD:PUBLISH
X-ORIGINAL-URL:https://highdesertbits.com
X-WR-CALDESC:Events for High Desert B.I.T.S.
REFRESH-INTERVAL;VALUE=DURATION:PT1H
X-Robots-Tag:noindex
X-PUBLISHED-TTL:PT1H
BEGIN:VTIMEZONE
TZID:UTC
BEGIN:STANDARD
TZOFFSETFROM:+0000
TZOFFSETTO:+0000
TZNAME:UTC
DTSTART:20240101T000000
END:STANDARD
END:VTIMEZONE
BEGIN:VEVENT
DTSTART;TZID=UTC:20250622T140000
DTEND;TZID=UTC:20250622T160000
DTSTAMP:20260424T094731
CREATED:20250604T132518Z
LAST-MODIFIED:20250604T132518Z
UID:1545-1750600800-1750608000@highdesertbits.com
SUMMARY:CTC presents CAT ON A HOT TIN ROOF
DESCRIPTION:CTC presents CAT ON A HOT TIN ROOF \nby Tennessee Williams \nFri.\, 6/13 @ 7:30pm \nSat.\, 6/14 @ 7:30pm \nSun.\, 6/15 @ 2pm \n  \nThu.\, 6/19 @ 7:30pm \nFri.\, 6/20 @7:30pm \nSat.\, 6/21 @ 7:30pm \nSun.\, 6/22 @ 2pm \n  \nThu.\, 6/26 @ 7:30pm \nFri.\, 6/27 @ 7:30pm \nSat.\, 6/28 @ 7:30pm \nSun.\, 6/29 @ 2pm
URL:https://highdesertbits.com/event/ctc-presents-cat-on-a-hot-tin-roof-7/
LOCATION:CTC Cascade Theatrical Company\, 148 NW Greenwood Ave\, Bend\, OR\, 97703
ORGANIZER;CN="CTC Cascade Theatrical Company":MAILTO:ctcinfo@cascadestheatrical.org
END:VEVENT
BEGIN:VEVENT
DTSTART;TZID=UTC:20250622T150000
DTEND;TZID=UTC:20250622T170000
DTSTAMP:20260424T094731
CREATED:20250217T153843Z
LAST-MODIFIED:20250217T153843Z
UID:1257-1750604400-1750611600@highdesertbits.com
SUMMARY:Ovation PA presents NEWSIES
DESCRIPTION:Ovation PA presents NEWSIES \nBased on the Disney film\, Newsies.  Music by Alan Menken\, lyrics by Jack Feldman\, book by Harvey Fierstein. Based on the screenplay by Bob Tzudiker and Noni White. \nSat.\, June 14 @ 6:30pm \nSun.\, June 14 @ 3pm \nThu.\, June 19 @ 6:30pm \nFri.\, June 20 @ 6:30pm \nSat.\, June 21 @ 6:30pm \nSun.\, June 22 @ 3pm \nAt Ridgeview High School
URL:https://highdesertbits.com/event/ovation-pa-presents-newsies-6/
LOCATION:Ridgeview High School\, 4555 SW Elkhorn Ave\, Redmond\, OR\, 97756
ORGANIZER;CN="Ovation Performing Arts":MAILTO:theatre@ovationpa.com
END:VEVENT
BEGIN:VEVENT
DTSTART;TZID=UTC:20250622T150000
DTEND;TZID=UTC:20250622T180000
DTSTAMP:20260424T094731
CREATED:20250604T161143Z
LAST-MODIFIED:20250604T162523Z
UID:1611-1750604400-1750615200@highdesertbits.com
SUMMARY:AUDITIONS for ETC's ALMOST\, MAINE
DESCRIPTION:AUDITIONS for ETC’s ALMOST\, MAINE \nWritten by John Cariani \nFri.\, June 20\, 6-9pm \nSun.\, June 22\, 3-6pm \nHoly Communion Chruch \n1245 SE 3rd Street\, c10     Bend\, OR \n  \nShow dates (Subject to change)  Sept. 25 through October 18
URL:https://highdesertbits.com/event/auditions-for-etcs-almost-maine/
LOCATION:Holy Communion Church\, 1245 SE 3rd St\, Bend\, OR\, 97702
ORGANIZER;CN="ETC Ellipse Theatre Community":MAILTO:https://www.etcbend.org/contact
END:VEVENT
END:VCALENDAR