BEGIN:VCALENDAR
VERSION:2.0
PRODID:-//High Desert B.I.T.S. - ECPv6.15.20//NONSGML v1.0//EN
CALSCALE:GREGORIAN
METHOD:PUBLISH
X-WR-CALNAME:High Desert B.I.T.S.
X-ORIGINAL-URL:https://highdesertbits.com
X-WR-CALDESC:Events for High Desert B.I.T.S.
REFRESH-INTERVAL;VALUE=DURATION:PT1H
X-Robots-Tag:noindex
X-PUBLISHED-TTL:PT1H
BEGIN:VTIMEZONE
TZID:UTC
BEGIN:STANDARD
TZOFFSETFROM:+0000
TZOFFSETTO:+0000
TZNAME:UTC
DTSTART:20240101T000000
END:STANDARD
END:VTIMEZONE
BEGIN:VEVENT
DTSTART;TZID=UTC:20250628T140000
DTEND;TZID=UTC:20250628T160000
DTSTAMP:20260424T094124
CREATED:20250518T232449Z
LAST-MODIFIED:20250518T232449Z
UID:1468-1751119200-1751126400@highdesertbits.com
SUMMARY:Ponderosa Players present GUYS AND DOLLS
DESCRIPTION:Ponderosa Players present GUYS AND DOLLS \nMusic and lyrics by Frank Loesser and book by Jo Swerling and Abe Burrows \nAt the Hayshed \nWed.\, 6/25 @ 7pm \nThu.\, 6.26 @ 7pm \nFri.\, 6/27 @ 7pm \nSat.\, 6/28 @ 2pm and 7pm
URL:https://highdesertbits.com/event/ponderosa-players-present-guys-and-dolls-4/
LOCATION:The Hayshed\, 65125 Hunnell Rd\, Bend\, OR\, 97703
END:VEVENT
BEGIN:VEVENT
DTSTART;TZID=UTC:20250628T190000
DTEND;TZID=UTC:20250628T210000
DTSTAMP:20260424T094124
CREATED:20250518T232554Z
LAST-MODIFIED:20250518T232554Z
UID:1470-1751137200-1751144400@highdesertbits.com
SUMMARY:Ponderosa Players present GUYS AND DOLLS
DESCRIPTION:Ponderosa Players present GUYS AND DOLLS \nMusic and lyrics by Frank Loesser and book by Jo Swerling and Abe Burrows \nAt the Hayshed \nWed.\, 6/25 @ 7pm \nThu.\, 6.26 @ 7pm \nFri.\, 6/27 @ 7pm \nSat.\, 6/28 @ 2pm and 7pm
URL:https://highdesertbits.com/event/ponderosa-players-present-guys-and-dolls-5/
LOCATION:The Hayshed\, 65125 Hunnell Rd\, Bend\, OR\, 97703
END:VEVENT
BEGIN:VEVENT
DTSTART;TZID=UTC:20250628T193000
DTEND;TZID=UTC:20250628T213000
DTSTAMP:20260424T094124
CREATED:20250604T132850Z
LAST-MODIFIED:20250604T132850Z
UID:1551-1751139000-1751146200@highdesertbits.com
SUMMARY:CTC presents CAT ON A HOT TIN ROOF
DESCRIPTION:CTC presents CAT ON A HOT TIN ROOF \nby Tennessee Williams \nFri.\, 6/13 @ 7:30pm \nSat.\, 6/14 @ 7:30pm \nSun.\, 6/15 @ 2pm \n  \nThu.\, 6/19 @ 7:30pm \nFri.\, 6/20 @7:30pm \nSat.\, 6/21 @ 7:30pm \nSun.\, 6/22 @ 2pm \n  \nThu.\, 6/26 @ 7:30pm \nFri.\, 6/27 @ 7:30pm \nSat.\, 6/28 @ 7:30pm \nSun.\, 6/29 @ 2pm
URL:https://highdesertbits.com/event/ctc-presents-cat-on-a-hot-tin-roof-10/
LOCATION:CTC Cascade Theatrical Company\, 148 NW Greenwood Ave\, Bend\, OR\, 97703
ORGANIZER;CN="CTC Cascade Theatrical Company":MAILTO:ctcinfo@cascadestheatrical.org
END:VEVENT
END:VCALENDAR