BEGIN:VCALENDAR
VERSION:2.0
PRODID:-//High Desert B.I.T.S. - ECPv6.15.20//NONSGML v1.0//EN
CALSCALE:GREGORIAN
METHOD:PUBLISH
X-ORIGINAL-URL:https://highdesertbits.com
X-WR-CALDESC:Events for High Desert B.I.T.S.
REFRESH-INTERVAL;VALUE=DURATION:PT1H
X-Robots-Tag:noindex
X-PUBLISHED-TTL:PT1H
BEGIN:VTIMEZONE
TZID:UTC
BEGIN:STANDARD
TZOFFSETFROM:+0000
TZOFFSETTO:+0000
TZNAME:UTC
DTSTART:20240101T000000
END:STANDARD
END:VTIMEZONE
BEGIN:VEVENT
DTSTART;TZID=UTC:20250712T140000
DTEND;TZID=UTC:20250712T160000
DTSTAMP:20260424T081048
CREATED:20250604T141931Z
LAST-MODIFIED:20250604T141931Z
UID:1597-1752328800-1752336000@highdesertbits.com
SUMMARY:Prineville Music Theatre Camp presents SPONGEBOB\, THE MUSICAL
DESCRIPTION:Prineville Music Theatre Camp presents SPONGEBOB\, THE MUSICAL \nCo-conceived and directed by Tina Landau with songs by various artists and a book by Kyle Jarrow. \n  \nFri.\, July 11 @ 6pm \nSat.\, July 12 @ 2pm \nAt Crook County High School
URL:https://highdesertbits.com/event/prineville-music-theatre-camp-presents-spongebob-the-musical-2/
LOCATION:Crook County High School\, 1100 SE Lynn Blvd\, Prineville\, OR\, 97754
END:VEVENT
END:VCALENDAR