BEGIN:VCALENDAR
VERSION:2.0
PRODID:-//High Desert B.I.T.S. - ECPv6.15.20//NONSGML v1.0//EN
CALSCALE:GREGORIAN
METHOD:PUBLISH
X-WR-CALNAME:High Desert B.I.T.S.
X-ORIGINAL-URL:https://highdesertbits.com
X-WR-CALDESC:Events for High Desert B.I.T.S.
REFRESH-INTERVAL;VALUE=DURATION:PT1H
X-Robots-Tag:noindex
X-PUBLISHED-TTL:PT1H
BEGIN:VTIMEZONE
TZID:UTC
BEGIN:STANDARD
TZOFFSETFROM:+0000
TZOFFSETTO:+0000
TZNAME:UTC
DTSTART:20240101T000000
END:STANDARD
END:VTIMEZONE
BEGIN:VEVENT
DTSTART;TZID=UTC:20250725T190000
DTEND;TZID=UTC:20250725T210000
DTSTAMP:20260424T080957
CREATED:20250520T172459Z
LAST-MODIFIED:20250521T143041Z
UID:1477-1753470000-1753477200@highdesertbits.com
SUMMARY:Guerilla Shakespeare presents AS YOU LIKE IT
DESCRIPTION:Guerilla Shakespeare presents AS YOU LIKE IT \nThu.\, July 24 and Fri.\, 25 @ 7pm  Deschutes Historical Museum\, Bend \nJuly 26 @ 7pm   Pioneer Park\, Bend \nJuly 27 @ 3pm   Pioneeer Park\, Bend \nJuly 30 @ 7pm   Suttle Lake Campground\, Sisters \nJuly 31st @ 7pm  Craft Kitchen\, Bend \nAugust 1 @ 7pm Maragas Winery\, Culver \nAugust 2 @ 7pm   Alpenglow Park\, Bend
URL:https://highdesertbits.com/event/guerilla-shakespeare-presents-as-you-like-it/
LOCATION:Deschutes Historical Museum\, 129 NW Idaho Ave\, Bend\, 97703
ORGANIZER;CN="Guerilla Shakespeare":MAILTO:clinton.k.clark@gmail.com
END:VEVENT
BEGIN:VEVENT
DTSTART;TZID=UTC:20250725T190000
DTEND;TZID=UTC:20250725T210000
DTSTAMP:20260424T080957
CREATED:20250604T135512Z
LAST-MODIFIED:20250604T141003Z
UID:1571-1753470000-1753477200@highdesertbits.com
SUMMARY:Ellipse Theatre Community presents VOICELESS: A MUSICAL
DESCRIPTION:Ellipse Theatre Community presents VOICELESS: A MUSICAL \nMusic and lyrics by Deena Kamm. Written by Anne Fenn. \nAt Caldera High School \nThu.\, July 24 @  7pm \nFri.\, July 25 @ 7pm \nSat.\, July 26 @ 2pm and 7pm \nSun.\, July 27 @ 2pm \n  \nThu.\, July 31 @ 7pm \nFri.\, Aug 1 @ 7pm \nSat.\, Aug 2 @ 7pm \nSun.\, Aug 3 @ 2pm
URL:https://highdesertbits.com/event/ellipse-theatre-community-presents-voiceless-a-musical-2/
LOCATION:Caldera High School\, 60925 SE 15th St\,\, Bend\, OR\, 97702\, United States
ORGANIZER;CN="ETC Ellipse Theatre Community":MAILTO:https://www.etcbend.org/contact
END:VEVENT
BEGIN:VEVENT
DTSTART;TZID=UTC:20250725T190000
DTEND;TZID=UTC:20250725T210000
DTSTAMP:20260424T080957
CREATED:20250629T043830Z
LAST-MODIFIED:20250629T043830Z
UID:1657-1753470000-1753477200@highdesertbits.com
SUMMARY:Ponderosa Players present TOO DARNED HOT
DESCRIPTION:Ponderosa Players present TOO DARNED HOT \nAnnual musical theatre review \n  \nFri.\, July 25 @ 7pm \nSat.\, July 26 @ 7pm \nAt the Tower Theatre
URL:https://highdesertbits.com/event/ponderosa-players-present-too-darned-hot/
LOCATION:Tower Theatre\, 835 NW Wall St\, Bend\, OR\, 97703\, United States
END:VEVENT
END:VCALENDAR