BEGIN:VCALENDAR
VERSION:2.0
PRODID:-//High Desert B.I.T.S. - ECPv6.15.20//NONSGML v1.0//EN
CALSCALE:GREGORIAN
METHOD:PUBLISH
X-ORIGINAL-URL:https://highdesertbits.com
X-WR-CALDESC:Events for High Desert B.I.T.S.
REFRESH-INTERVAL;VALUE=DURATION:PT1H
X-Robots-Tag:noindex
X-PUBLISHED-TTL:PT1H
BEGIN:VTIMEZONE
TZID:UTC
BEGIN:STANDARD
TZOFFSETFROM:+0000
TZOFFSETTO:+0000
TZNAME:UTC
DTSTART:20240101T000000
END:STANDARD
END:VTIMEZONE
BEGIN:VEVENT
DTSTART;TZID=UTC:20250727T140000
DTEND;TZID=UTC:20250727T160000
DTSTAMP:20260424T081049
CREATED:20250604T135913Z
LAST-MODIFIED:20250604T140804Z
UID:1577-1753624800-1753632000@highdesertbits.com
SUMMARY:Ellipse Theatre Community presents VOICELESS: A MUSICAL
DESCRIPTION:Ellipse Theatre Community presents VOICELESS: A MUSICAL \nMusic and lyrics by Deena Kamm. Written by Anne Fenn. \nAt Caldera High School \nThu.\, July 24 @  7pm \nFri.\, July 25 @ 7pm \nSat.\, July 26 @ 2pm and 7pm \nSun.\, July 27 @ 2pm \n  \nThu.\, July 31 @ 7pm \nFri.\, Aug 1 @ 7pm \nSat.\, Aug 2 @ 7pm \nSun.\, Aug 3 @ 2pm
URL:https://highdesertbits.com/event/ellipse-theatre-community-presents-voiceless-a-musical-5/
LOCATION:Caldera High School\, 60925 SE 15th St\,\, Bend\, OR\, 97702\, United States
ORGANIZER;CN="ETC Ellipse Theatre Community":MAILTO:https://www.etcbend.org/contact
END:VEVENT
BEGIN:VEVENT
DTSTART;TZID=UTC:20250727T140000
DTEND;TZID=UTC:20250727T170000
DTSTAMP:20260424T081049
CREATED:20250718T131146Z
LAST-MODIFIED:20250718T131146Z
UID:1677-1753624800-1753635600@highdesertbits.com
SUMMARY:AUDITIONS for CTC's RUMORS
DESCRIPTION:AUDITIONS for CTC’s RUMORS \nBy Neil Simon \n  \nSun.\, 7/27\,  2-5pm \nMon.\, 7/28\,  6-9pm \n  \n 
URL:https://highdesertbits.com/event/auditions-for-ctcs-rumors/
LOCATION:CTC Cascade Theatrical Company\, 148 NW Greenwood Ave\, Bend\, OR\, 97703
ORGANIZER;CN="CTC Cascade Theatrical Company":MAILTO:ctcinfo@cascadestheatrical.org
END:VEVENT
BEGIN:VEVENT
DTSTART;TZID=UTC:20250727T150000
DTEND;TZID=UTC:20250727T170000
DTSTAMP:20260424T081049
CREATED:20250521T141317Z
LAST-MODIFIED:20250521T143230Z
UID:1482-1753628400-1753635600@highdesertbits.com
SUMMARY:Guerilla Shakespeare presents AS YOU LIKE IT
DESCRIPTION:Guerilla Shakespeare presents AS YOU LIKE IT \nThu.\, July 24 and Fri.\, 25 @ 7pm  Deschutes Historical Museum\, Bend \nJuly 26 @ 7pm   Pioneer Park\, Bend \nJuly 27 @ 3pm   Pioneeer Park\, Bend \nJuly 30 @ 7pm   Suttle Lake Campground\, Sisters \nJuly 31st @ 7pm  Craft Kitchen\, Bend \nAugust 1 @ 7pm Maragas Winery\, Culver \nAugust 2 @ 7pm   Alpenglow Park\, Bend
URL:https://highdesertbits.com/event/guerilla-shakespeare-presents-as-you-like-it-3/
LOCATION:Pioneer Park\, Bend\, 1525 NW Wall St\, Bend\, Oregon\, 97701
ORGANIZER;CN="Guerilla Shakespeare":MAILTO:clinton.k.clark@gmail.com
END:VEVENT
END:VCALENDAR