BEGIN:VCALENDAR
VERSION:2.0
PRODID:-//High Desert B.I.T.S. - ECPv6.15.20//NONSGML v1.0//EN
CALSCALE:GREGORIAN
METHOD:PUBLISH
X-ORIGINAL-URL:https://highdesertbits.com
X-WR-CALDESC:Events for High Desert B.I.T.S.
REFRESH-INTERVAL;VALUE=DURATION:PT1H
X-Robots-Tag:noindex
X-PUBLISHED-TTL:PT1H
BEGIN:VTIMEZONE
TZID:UTC
BEGIN:STANDARD
TZOFFSETFROM:+0000
TZOFFSETTO:+0000
TZNAME:UTC
DTSTART:20240101T000000
END:STANDARD
END:VTIMEZONE
BEGIN:VEVENT
DTSTART;TZID=UTC:20250728T180000
DTEND;TZID=UTC:20250728T210000
DTSTAMP:20260424T063434
CREATED:20250718T131313Z
LAST-MODIFIED:20250718T131313Z
UID:1679-1753725600-1753736400@highdesertbits.com
SUMMARY:AUDITIONS for CTC's RUMORS
DESCRIPTION:AUDITIONS for CTC’s RUMORS \nBy Neil Simon \n  \nSun.\, 7/27\,  2-5pm \nMon.\, 7/28\,  6-9pm
URL:https://highdesertbits.com/event/auditions-for-ctcs-rumors-2/
LOCATION:CTC Cascade Theatrical Company\, 148 NW Greenwood Ave\, Bend\, OR\, 97703
ORGANIZER;CN="CTC Cascade Theatrical Company":MAILTO:ctcinfo@cascadestheatrical.org
END:VEVENT
END:VCALENDAR