BEGIN:VCALENDAR
VERSION:2.0
PRODID:-//High Desert B.I.T.S. - ECPv6.15.20//NONSGML v1.0//EN
CALSCALE:GREGORIAN
METHOD:PUBLISH
X-ORIGINAL-URL:https://highdesertbits.com
X-WR-CALDESC:Events for High Desert B.I.T.S.
REFRESH-INTERVAL;VALUE=DURATION:PT1H
X-Robots-Tag:noindex
X-PUBLISHED-TTL:PT1H
BEGIN:VTIMEZONE
TZID:UTC
BEGIN:STANDARD
TZOFFSETFROM:+0000
TZOFFSETTO:+0000
TZNAME:UTC
DTSTART:20240101T000000
END:STANDARD
END:VTIMEZONE
BEGIN:VEVENT
DTSTART;TZID=UTC:20250731T080000
DTEND;TZID=UTC:20250803T170000
DTSTAMP:20260424T063435
CREATED:20250217T062144Z
LAST-MODIFIED:20250217T062144Z
UID:1223-1753948800-1754240400@highdesertbits.com
SUMMARY:TMP presents JAMES AND THE GIANT PEACH
DESCRIPTION:TMP presents JAMES AND THE GIANT PEACH \n  \nBook by timothy Allen McDonald\, Music and Lyrics by Benj Pasek and Justin Paul \nJuly 31-Aug 3 Place TBA
URL:https://highdesertbits.com/event/tmp-presents-james-and-the-giant-peach/
LOCATION:OR
ORGANIZER;CN="TMP Thoroughly Modern Productions":MAILTO:tmpbend@gmail.com
END:VEVENT
BEGIN:VEVENT
DTSTART;TZID=UTC:20250802T190000
DTEND;TZID=UTC:20250802T210000
DTSTAMP:20260424T063435
CREATED:20250521T142834Z
LAST-MODIFIED:20250521T142834Z
UID:1492-1754161200-1754168400@highdesertbits.com
SUMMARY:Guerilla Shakespeare presents AS YOU LIKE IT
DESCRIPTION:Guerilla Shakespeare presents AS YOU LIKE IT \nThu.\, July 24 and Fri.\, 25 @ 7pm  Deschutes Historical Museum\, Bend \nJuly 26 @ 7pm   Pioneer Park\, Bend \nJuly 27 @ 3pm   Pioneeer Park\, Bend \nJuly 30 @ 7pm   Suttle Lake Campground\, Sisters \nJuly 31st @ 7pm  Craft Kitchen\, Bend \nAugust 1 @ 7pm Maragas Winery\, Culver \nAugust 2 @ 7pm   Alpenglow Park\, Bend
URL:https://highdesertbits.com/event/guerilla-shakespeare-presents-as-you-like-it-7/
LOCATION:Alpineglow Park\, 61049 SE 15th St\, Bend\, OR\, 97702
ORGANIZER;CN="Guerilla Shakespeare":MAILTO:clinton.k.clark@gmail.com
END:VEVENT
BEGIN:VEVENT
DTSTART;TZID=UTC:20250802T190000
DTEND;TZID=UTC:20250802T210000
DTSTAMP:20260424T063435
CREATED:20250604T140320Z
LAST-MODIFIED:20250604T140632Z
UID:1583-1754161200-1754168400@highdesertbits.com
SUMMARY:Ellipse Theatre Community presents VOICELESS: A MUSICAL
DESCRIPTION:Ellipse Theatre Community presents VOICELESS: A MUSICAL \nMusic and lyrics by Deena Kamm. Written by Anne Fenn. \nAt Caldera High School \nThu.\, July 24 @  7pm \nFri.\, July 25 @ 7pm \nSat.\, July 26 @ 2pm and 7pm \nSun.\, July 27 @ 2pm \n  \nThu.\, July 31 @ 7pm \nFri.\, Aug 1 @ 7pm \nSat.\, Aug 2 @ 7pm \nSun.\, Aug 3 @ 2pm
URL:https://highdesertbits.com/event/ellipse-theatre-community-presents-voiceless-a-musical-8/
LOCATION:Caldera High School\, 60925 SE 15th St\,\, Bend\, OR\, 97702\, United States
ORGANIZER;CN="ETC Ellipse Theatre Community":MAILTO:https://www.etcbend.org/contact
END:VEVENT
BEGIN:VEVENT
DTSTART;TZID=UTC:20250802T193000
DTEND;TZID=UTC:20250802T213000
DTSTAMP:20260424T063435
CREATED:20250707T184655Z
LAST-MODIFIED:20250707T184655Z
UID:1667-1754163000-1754170200@highdesertbits.com
SUMMARY:Deschutes Theater Co. presents DEATHTRAP
DESCRIPTION:Deschutes Theater Co. presents DEATHTRAP by Ira Levin \nFri.\, 8/1 @ 7:30pm \nSat.\, 8/2 @ 7:30pm \nFri.\, 8/8 @ 7:30pm \nSat.\, 8/9 @ 7:30pm \nFri.\, 8/15 @ 7:30pm \nSat.\, 8/16 @ 7:30pm \nUnity Spiritual Community of Central Oregon
URL:https://highdesertbits.com/event/deschutes-theater-co-presents-deathtrap-2/
LOCATION:Unity Community Central Oregon\, 63645 Scenic Dr\, Bend\, OR\, 97701
ORGANIZER;CN="Deschutes Community Theater":MAILTO:deschutestheatercompany@gmail.com
END:VEVENT
END:VCALENDAR