BEGIN:VCALENDAR
VERSION:2.0
PRODID:-//High Desert B.I.T.S. - ECPv6.15.20//NONSGML v1.0//EN
CALSCALE:GREGORIAN
METHOD:PUBLISH
X-WR-CALNAME:High Desert B.I.T.S.
X-ORIGINAL-URL:https://highdesertbits.com
X-WR-CALDESC:Events for High Desert B.I.T.S.
REFRESH-INTERVAL;VALUE=DURATION:PT1H
X-Robots-Tag:noindex
X-PUBLISHED-TTL:PT1H
BEGIN:VTIMEZONE
TZID:UTC
BEGIN:STANDARD
TZOFFSETFROM:+0000
TZOFFSETTO:+0000
TZNAME:UTC
DTSTART:20240101T000000
END:STANDARD
END:VTIMEZONE
BEGIN:VEVENT
DTSTART;TZID=UTC:20250731T080000
DTEND;TZID=UTC:20250803T170000
DTSTAMP:20260424T063437
CREATED:20250217T062144Z
LAST-MODIFIED:20250217T062144Z
UID:1223-1753948800-1754240400@highdesertbits.com
SUMMARY:TMP presents JAMES AND THE GIANT PEACH
DESCRIPTION:TMP presents JAMES AND THE GIANT PEACH \n  \nBook by timothy Allen McDonald\, Music and Lyrics by Benj Pasek and Justin Paul \nJuly 31-Aug 3 Place TBA
URL:https://highdesertbits.com/event/tmp-presents-james-and-the-giant-peach/
LOCATION:OR
ORGANIZER;CN="TMP Thoroughly Modern Productions":MAILTO:tmpbend@gmail.com
END:VEVENT
BEGIN:VEVENT
DTSTART;TZID=UTC:20250803T140000
DTEND;TZID=UTC:20250803T160000
DTSTAMP:20260424T063437
CREATED:20250604T140459Z
LAST-MODIFIED:20250604T140557Z
UID:1585-1754229600-1754236800@highdesertbits.com
SUMMARY:Ellipse Theatre Community presents VOICELESS: A MUSICAL
DESCRIPTION:Ellipse Theatre Community presents VOICELESS: A MUSICAL \nMusic and lyrics by Deena Kamm. Written by Anne Fenn. \nAt Caldera High School \nThu.\, July 24 @  7pm \nFri.\, July 25 @ 7pm \nSat.\, July 26 @ 2pm and 7pm \nSun.\, July 27 @ 2pm \n  \nThu.\, July 31 @ 7pm \nFri.\, Aug 1 @ 7pm \nSat.\, Aug 2 @ 7pm \nSun.\, Aug 3 @ 2pm
URL:https://highdesertbits.com/event/ellipse-theatre-community-presents-voiceless-a-musical-9/
LOCATION:Caldera High School\, 60925 SE 15th St\,\, Bend\, OR\, 97702\, United States
ORGANIZER;CN="ETC Ellipse Theatre Community":MAILTO:https://www.etcbend.org/contact
END:VEVENT
END:VCALENDAR