BEGIN:VCALENDAR
VERSION:2.0
PRODID:-//High Desert B.I.T.S. - ECPv6.15.20//NONSGML v1.0//EN
CALSCALE:GREGORIAN
METHOD:PUBLISH
X-WR-CALNAME:High Desert B.I.T.S.
X-ORIGINAL-URL:https://highdesertbits.com
X-WR-CALDESC:Events for High Desert B.I.T.S.
REFRESH-INTERVAL;VALUE=DURATION:PT1H
X-Robots-Tag:noindex
X-PUBLISHED-TTL:PT1H
BEGIN:VTIMEZONE
TZID:UTC
BEGIN:STANDARD
TZOFFSETFROM:+0000
TZOFFSETTO:+0000
TZNAME:UTC
DTSTART:20240101T000000
END:STANDARD
END:VTIMEZONE
BEGIN:VEVENT
DTSTART;TZID=UTC:20250816T190000
DTEND;TZID=UTC:20250816T210000
DTSTAMP:20260424T063438
CREATED:20250621T012001Z
LAST-MODIFIED:20250621T012001Z
UID:1655-1755370800-1755378000@highdesertbits.com
SUMMARY:Theater in the Park presents ROCK OF AGES
DESCRIPTION:Theater in the Park presents ROCK OF AGES \nBook by Chris D’Arienzo Arrangement and Orchestrations by Ethan Popp \nFri.\, Aug 15 @ 7pm \nSat.\, Aug 16 @ 7pm \nAt Drake Park
URL:https://highdesertbits.com/event/theater-in-the-park-presents-rock-of-ages-2/
LOCATION:Drake Park\, 777 NW Riverside Park\, Bend\, Oregon\, 97701
ORGANIZER;CN="Theatre in the Park":MAILTO:info@layitoutevents.com
END:VEVENT
BEGIN:VEVENT
DTSTART;TZID=UTC:20250816T193000
DTEND;TZID=UTC:20250816T213000
DTSTAMP:20260424T063438
CREATED:20250707T185351Z
LAST-MODIFIED:20250707T185351Z
UID:1675-1755372600-1755379800@highdesertbits.com
SUMMARY:Deschutes Theater Co. presents DEATHTRAP
DESCRIPTION:Deschutes Theater Co. presents DEATHTRAP by Ira Levin \nFri.\, 8/1 @ 7:30pm \nSat.\, 8/2 @ 7:30pm \nFri.\, 8/8 @ 7:30pm \nSat.\, 8/9 @ 7:30pm \nFri.\, 8/15 @ 7:30pm \nSat.\, 8/16 @ 7:30pm \nUnity Spiritual Community of Central Oregon
URL:https://highdesertbits.com/event/deschutes-theater-co-presents-deathtrap-6/
LOCATION:Unity Community Central Oregon\, 63645 Scenic Dr\, Bend\, OR\, 97701
ORGANIZER;CN="Deschutes Community Theater":MAILTO:deschutestheatercompany@gmail.com
END:VEVENT
BEGIN:VEVENT
DTSTART;TZID=UTC:20250816T193000
DTEND;TZID=UTC:20250816T213000
DTSTAMP:20260424T063438
CREATED:20250812T180708Z
LAST-MODIFIED:20250812T180708Z
UID:1715-1755372600-1755379800@highdesertbits.com
SUMMARY:Greenhouse Cabaret presents THE WOLVES
DESCRIPTION:Greenhouse Cabaret presents THE WOLVES \nby Sarah DeLappe \nWed.\, 8/13 @ 7:30pm \nThu.\, 8/14 @ 7:30pm \nFri.\, 8/15 @ 7:30pm \nSat.\, 8/16 @ 7:30pm \nSun.\, 8/17 @ 7:30pm \n  \nWed.\, 8/20 @ 7:30pm \nThu.\, 8/21 @ 7:30pm \nFri.\, 8/22 @ 7:30pm \nSat.\, 8/23 @ 7:30pm \nSun.\, 8/24 @ 7:30pm
URL:https://highdesertbits.com/event/greenhouse-cabaret-presents-the-wolves-4/
LOCATION:Greenhouse Cabaret\, 1017 NE 2nd St.\, Bend\, OR\, 97701\, United States
END:VEVENT
END:VCALENDAR