BEGIN:VCALENDAR
VERSION:2.0
PRODID:-//High Desert B.I.T.S. - ECPv6.15.20//NONSGML v1.0//EN
CALSCALE:GREGORIAN
METHOD:PUBLISH
X-WR-CALNAME:High Desert B.I.T.S.
X-ORIGINAL-URL:https://highdesertbits.com
X-WR-CALDESC:Events for High Desert B.I.T.S.
REFRESH-INTERVAL;VALUE=DURATION:PT1H
X-Robots-Tag:noindex
X-PUBLISHED-TTL:PT1H
BEGIN:VTIMEZONE
TZID:UTC
BEGIN:STANDARD
TZOFFSETFROM:+0000
TZOFFSETTO:+0000
TZNAME:UTC
DTSTART:20240101T000000
END:STANDARD
END:VTIMEZONE
BEGIN:VEVENT
DTSTART;TZID=UTC:20250907T080000
DTEND;TZID=UTC:20250907T170000
DTSTAMP:20260424T044904
CREATED:20250907T130449Z
LAST-MODIFIED:20250907T130449Z
UID:1818-1757232000-1757264400@highdesertbits.com
SUMMARY:Crook County High School presents CARRIE\, THE MUSICAL
DESCRIPTION:Crook County High School presents CARRIE\, THE MUSICAL
URL:https://highdesertbits.com/event/crook-county-high-school-presents-carrie-the-musical-3/
LOCATION:Crook County High School\, 1100 SE Lynn Blvd\, Prineville\, OR\, 97754
END:VEVENT
BEGIN:VEVENT
DTSTART;TZID=UTC:20250907T140000
DTEND;TZID=UTC:20250907T170000
DTSTAMP:20260424T044904
CREATED:20250907T170329Z
LAST-MODIFIED:20250907T170329Z
UID:1952-1757253600-1757264400@highdesertbits.com
SUMMARY:Cascade Theatrical present EBENEZER SCROOGE'S BIG BEND CHRISTMAS SHOW
DESCRIPTION:Cascade Theatrical present EBENEZER SCROOGE’S BIG BEND CHRISTMAS SHOW \nby Gordon Greenberg and Steven Rosen \nSat.\, 12/13 @ 2pm and 7:30pm \nSun.\, 12/14 @ 2pm \n  \nThu.\, 12/18 @ 7:30pm \nFri.\, 12/19 @ 7:30pm \nSat.\, 12/20 @ 2pm and 7:30pm \nSun.\, 12/21 @ 2pm
URL:https://highdesertbits.com/event/cascade-theatrical-present-ebenezer-scrooges-big-bend-christmas-show-7/
LOCATION:CTC Cascade Theatrical Company\, 148 NW Greenwood Ave\, Bend\, OR\, 97703
ORGANIZER;CN="CTC Cascade Theatrical Company":MAILTO:ctcinfo@cascadestheatrical.org
END:VEVENT
BEGIN:VEVENT
DTSTART;TZID=UTC:20250907T180000
DTEND;TZID=UTC:20250907T210000
DTSTAMP:20260424T044904
CREATED:20250825T135204Z
LAST-MODIFIED:20250825T135204Z
UID:1736-1757268000-1757278800@highdesertbits.com
SUMMARY:AUDITIONS for CTC's EBENEZER SCROOGE'S BIG BEND CHRISTMAS
DESCRIPTION:AUDITIONS for CTC’s EBENEZER SCROOGE’S BIG BEND CHRISTMAS \nSun.\, 9/7 from 6-9pm \nMon.\, 9/8 from 6-9pm Callbacks \nDeschutes Chidren’s Foundation East Campus
URL:https://highdesertbits.com/event/auditions-for-ctcs-ebenezer-scrooges-big-bend-christmas/
LOCATION:Deschutes Children’s Foundation\, 2125 NE Daggett\, Bend\, OR\, 97701
ORGANIZER;CN="CTC Cascade Theatrical Company":MAILTO:ctcinfo@cascadestheatrical.org
END:VEVENT
BEGIN:VEVENT
DTSTART;TZID=UTC:20250907T190000
DTEND;TZID=UTC:20250907T210000
DTSTAMP:20260424T044904
CREATED:20250902T144505Z
LAST-MODIFIED:20250902T144919Z
UID:1799-1757271600-1757278800@highdesertbits.com
SUMMARY:AUDITIONS for Silent Echo Theater Company's "NOW YOU'RE TALKING" One Acts Holiday edition
DESCRIPTION:AUDITIONS for Silent Echo Theater Company’s “NOW YOU’RE TALKING” One Acts Holiday edition \nSun.\, 9/7 from 7-9pm \nMon.\, 9/8 from 7-9pm \nAt Sisters Community Church 1300 McKenzie Hwy\, Sisters OR \nActors ages 14+\, sides will be provided \nPerformances Nov 13-16
URL:https://highdesertbits.com/event/auditions-for-silent-echo-theater-companys-now-youre-talking-one-acts-holiday-edition/
LOCATION:Sisters Community Church\, 1300 McKenzie Hwy\, Sisters\, OR
ORGANIZER;CN="Silent Echo Theatre Company":MAILTO:silentechotheatercompany@gmail.com
END:VEVENT
BEGIN:VEVENT
DTSTART;TZID=UTC:20250907T193000
DTEND;TZID=UTC:20250907T213000
DTSTAMP:20260424T044904
CREATED:20250907T155846Z
LAST-MODIFIED:20250907T160006Z
UID:1903-1757273400-1757280600@highdesertbits.com
SUMMARY:Cascade Theatrical Company presents RUMORS
DESCRIPTION:Cascade Theatrical Company presents RUMORS \nby Neil Simon \nThu.\, 9/18 @ 7:30pm \nFri.\, 9/19 @ 7:30pm \nSat.\, 9/20 @ 7:30pm \nSun.\, 9/21 @ 2pm \n  \nThu.\, 9/25 @ 7:30pm \nFri.\, 9/26 @ 7:30pm \nSat.\, 9/27 @ 7:30pm \nSun.\, 9/28 @ 2pm
URL:https://highdesertbits.com/event/cascade-theatrical-company-presents-rumors-4/
LOCATION:CTC Cascade Theatrical Company\, 148 NW Greenwood Ave\, Bend\, OR\, 97703
ORGANIZER;CN="CTC Cascade Theatrical Company":MAILTO:ctcinfo@cascadestheatrical.org
END:VEVENT
END:VCALENDAR