BEGIN:VCALENDAR
VERSION:2.0
PRODID:-//High Desert B.I.T.S. - ECPv6.15.20//NONSGML v1.0//EN
CALSCALE:GREGORIAN
METHOD:PUBLISH
X-ORIGINAL-URL:https://highdesertbits.com
X-WR-CALDESC:Events for High Desert B.I.T.S.
REFRESH-INTERVAL;VALUE=DURATION:PT1H
X-Robots-Tag:noindex
X-PUBLISHED-TTL:PT1H
BEGIN:VTIMEZONE
TZID:UTC
BEGIN:STANDARD
TZOFFSETFROM:+0000
TZOFFSETTO:+0000
TZNAME:UTC
DTSTART:20240101T000000
END:STANDARD
END:VTIMEZONE
BEGIN:VEVENT
DTSTART;TZID=UTC:20250926T190000
DTEND;TZID=UTC:20251019T170000
DTSTAMP:20260424T045009
CREATED:20250604T142154Z
LAST-MODIFIED:20250923T183801Z
UID:1599-1758913200-1760893200@highdesertbits.com
SUMMARY:Ellipse Theater Community presents ALMOST\, MAINE
DESCRIPTION:Ellipse Theater Community presents ALMOST\, MAINE \nWritten by John Cariani \nThu.\, Sept 26 @ 7pm  \nFri.\, Sept 27 @ 2pm and 7pm @ Open Space \n  \nSat.\, 9/28 @ 2pm and 7pm @ High Desert Music Hall \n  \nSat.\,10/4 @ 6pm @ LaPine Activity Center \n  \nFri.\, 10/10 @ 7pm At Sunriver Christian Fellowship \n  \nSun.\, 10/12 @ 2pm @ Prineville’s Bowman Museum \n  \nThu.\, 10/16 @ 7pm \nFri.\, 10/17 @ 7pm  Unity Community Central Oregon \n  \nSat.\, 10/18 @ 2pm and 7pm at Sisters-Camp SHrman RDPD Community Hall \n 
URL:https://highdesertbits.com/event/ellipse-theater-community-presents-almost-maine/
LOCATION:Open Space Event Studio\, 220 NE Lafayette Ave\, Bend\, OR\, 97701
ORGANIZER;CN="ETC Ellipse Theatre Community":MAILTO:https://www.etcbend.org/contact
END:VEVENT
BEGIN:VEVENT
DTSTART;TZID=UTC:20250927T140000
DTEND;TZID=UTC:20250927T160000
DTSTAMP:20260424T045009
CREATED:20250923T183929Z
LAST-MODIFIED:20250923T183929Z
UID:2125-1758981600-1758988800@highdesertbits.com
SUMMARY:Ellipse Theater Community presents ALMOST\, MAINE
DESCRIPTION:Ellipse Theater Community presents ALMOST\, MAINE \nWritten by John Cariani \n  \nFri.\, Sept 27 @ 2pm and 7pm @ Open Space \n  \nSat.\, 9/28 @ 2pm and 7pm @ High Desert Music Hall \n  \nSat.\,10/4 @ 6pm @ LaPine Activity Center \n  \nFri.\, 10/10 @ 7pm At Sunriver Christian Fellowship \n  \nSun.\, 10/12 @ 2pm @ Prineville’s Bowman Museum \n  \nThu.\, 10/16 @ 7pm \nFri.\, 10/17 @ 7pm  Unity Community Central Oregon \n  \nSat.\, 10/18 @ 2pm and 7pm at Sisters-Camp SHrman RDPD Community Hall
URL:https://highdesertbits.com/event/ellipse-theater-community-presents-almost-maine-2/
LOCATION:Open Space Event Studio\, 220 NE Lafayette Ave\, Bend\, OR\, 97701
ORGANIZER;CN="ETC Ellipse Theatre Community":MAILTO:https://www.etcbend.org/contact
END:VEVENT
BEGIN:VEVENT
DTSTART;TZID=UTC:20250927T190000
DTEND;TZID=UTC:20250927T210000
DTSTAMP:20260424T045009
CREATED:20250923T184251Z
LAST-MODIFIED:20250923T184251Z
UID:2127-1758999600-1759006800@highdesertbits.com
SUMMARY:Ellipse Theater Community presents ALMOST\, MAINE
DESCRIPTION:Ellipse Theater Community presents ALMOST\, MAINE \nWritten by John Cariani \n  \nFri.\, Sept 27 @ 7pm @ Open Space \n  \nSat.\, 9/28 @ 2pm and 7pm @ High Desert Music Hall \n  \nSat.\,10/4 @ 6pm @ LaPine Activity Center \n  \nFri.\, 10/10 @ 7pm At Sunriver Christian Fellowship \n  \nSun.\, 10/12 @ 2pm @ Prineville’s Bowman Museum \n  \nThu.\, 10/16 @ 7pm \nFri.\, 10/17 @ 7pm  Unity Community Central Oregon \n  \nSat.\, 10/18 @ 2pm and 7pm at Sisters-Camp SHrman RDPD Community Hall
URL:https://highdesertbits.com/event/ellipse-theater-community-presents-almost-maine-3/
LOCATION:Open Space Event Studio\, 220 NE Lafayette Ave\, Bend\, OR\, 97701
ORGANIZER;CN="ETC Ellipse Theatre Community":MAILTO:https://www.etcbend.org/contact
END:VEVENT
BEGIN:VEVENT
DTSTART;TZID=UTC:20250927T193000
DTEND;TZID=UTC:20250927T213000
DTSTAMP:20260424T045009
CREATED:20250907T161035Z
LAST-MODIFIED:20250907T161035Z
UID:1915-1759001400-1759008600@highdesertbits.com
SUMMARY:Cascade Theatrical Company presents RUMORS
DESCRIPTION:Cascade Theatrical Company presents RUMORS \nby Neil Simon \nSat.\, 9/27 @ 7:30pm \nSun.\, 9/28 @ 2pm
URL:https://highdesertbits.com/event/cascade-theatrical-company-presents-rumors-10/
LOCATION:CTC Cascade Theatrical Company\, 148 NW Greenwood Ave\, Bend\, OR\, 97703
ORGANIZER;CN="CTC Cascade Theatrical Company":MAILTO:ctcinfo@cascadestheatrical.org
END:VEVENT
END:VCALENDAR