BEGIN:VCALENDAR
VERSION:2.0
PRODID:-//High Desert B.I.T.S. - ECPv6.15.20//NONSGML v1.0//EN
CALSCALE:GREGORIAN
METHOD:PUBLISH
X-ORIGINAL-URL:https://highdesertbits.com
X-WR-CALDESC:Events for High Desert B.I.T.S.
REFRESH-INTERVAL;VALUE=DURATION:PT1H
X-Robots-Tag:noindex
X-PUBLISHED-TTL:PT1H
BEGIN:VTIMEZONE
TZID:UTC
BEGIN:STANDARD
TZOFFSETFROM:+0000
TZOFFSETTO:+0000
TZNAME:UTC
DTSTART:20240101T000000
END:STANDARD
END:VTIMEZONE
BEGIN:VEVENT
DTSTART;TZID=UTC:20251025T140000
DTEND;TZID=UTC:20251025T160000
DTSTAMP:20260424T030718
CREATED:20251017T131921Z
LAST-MODIFIED:20251017T131921Z
UID:2237-1761400800-1761408000@highdesertbits.com
SUMMARY:Ridgeview High School presents MURDER'S IN THE HEIR
DESCRIPTION:Ridgeview High School presents MURDER’S IN THE HEIR \nBy Billy St. John \nSat.\, 10/25 @ 2pm and 7pm \n  \nThu.\, 10/30 @ 7pm \nSat.\, Nov 1 @ 2pm and 7pm
URL:https://highdesertbits.com/event/ridgeview-high-school-presents-murders-in-the-heir-3/
LOCATION:Ridgeview High School\, 4555 SW Elkhorn Ave\, Redmond\, OR\, 97756
END:VEVENT
BEGIN:VEVENT
DTSTART;TZID=UTC:20251025T180000
DTEND;TZID=UTC:20251025T200000
DTSTAMP:20260424T030718
CREATED:20250902T124748Z
LAST-MODIFIED:20251022T143626Z
UID:1776-1761415200-1761422400@highdesertbits.com
SUMMARY:RPA presents THE YELLOW BOAT
DESCRIPTION:RPA\, Redmond Proficiency Academy\, presents THE YELLOW BOAT \nBy David Saar \nFri.\, Oct. 24 @ 6pm \nSat.\, Oct. 25 @ 6pm \nSun.\, Oct. 26 @ 2pm \nThu.\, Oct. 30 @ 6pm \nSat.\, Nov. 1 @ 2pm and 6pm
URL:https://highdesertbits.com/event/rpa-presents-the-yellow-boat-2/
LOCATION:RPA   Redmond Proficiency Academy\, 657 SW Glacier Ave #2710\,\, Redmond\, OR\, 97753\, United States
END:VEVENT
BEGIN:VEVENT
DTSTART;TZID=UTC:20251025T190000
DTEND;TZID=UTC:20251025T210000
DTSTAMP:20260424T030718
CREATED:20251017T132028Z
LAST-MODIFIED:20251017T132028Z
UID:2239-1761418800-1761426000@highdesertbits.com
SUMMARY:Ridgeview High School presents MURDER'S IN THE HEIR
DESCRIPTION:Ridgeview High School presents MURDER’S IN THE HEIR \nBy Billy St. John \nSat.\, 10/25 @ 7pm \n  \nThu.\, 10/30 @ 7pm \nSat.\, Nov 1 @ 2pm and 7pm
URL:https://highdesertbits.com/event/ridgeview-high-school-presents-murders-in-the-heir-4/
LOCATION:Ridgeview High School\, 4555 SW Elkhorn Ave\, Redmond\, OR\, 97756
END:VEVENT
BEGIN:VEVENT
DTSTART;TZID=UTC:20251025T193000
DTEND;TZID=UTC:20251025T213000
DTSTAMP:20260424T030718
CREATED:20250907T164028Z
LAST-MODIFIED:20250907T164028Z
UID:1928-1761420600-1761427800@highdesertbits.com
SUMMARY:Cascade Theatrical Company presents THE HAUNTING OF HILL HOUSE
DESCRIPTION:Cascade Theatrical Company presents THE HAUNTING OF HILL HOUSE \nby F.  Andrew Leslie from the novel by Shirley Jackson \nSat.\, 10/25 @ 7:30pm \nSun.\, 10/26 @ 2pm \n  \nThu.\, 10/30 @ 7:30pm \nFri.\, 10/31 @ 7:30pm \nSat.\, 11/1 @ 7:30pm \nSun.\, 11/2 @ 2pm
URL:https://highdesertbits.com/event/cascade-theatrical-company-presents-the-haunting-of-hill-house-5/
LOCATION:CTC Cascade Theatrical Company\, 148 NW Greenwood Ave\, Bend\, OR\, 97703
ORGANIZER;CN="CTC Cascade Theatrical Company":MAILTO:ctcinfo@cascadestheatrical.org
END:VEVENT
BEGIN:VEVENT
DTSTART;TZID=UTC:20251025T193000
DTEND;TZID=UTC:20251025T213000
DTSTAMP:20260424T030718
CREATED:20251003T134228Z
LAST-MODIFIED:20251003T134228Z
UID:2188-1761420600-1761427800@highdesertbits.com
SUMMARY:Greenhouse Cabaret presents ONCE
DESCRIPTION:Greenhouse Cabaret presents ONCE \nMusic and lyrics by Glen Hansard and Markéta Irglová and book by Enda Walsh. \nSat.\, 10/25 and Sun.\, 10/26 at 7:30pm \nThu.\, 10/30\, Fri.\, 10/31\, Sat.\, 11/1 and Sun.\, 11/2 at 7:30pm \nThu.\, 11/6\, Fri.\, 11/7\, Sat.\, 11/8 and Sun.\, 11/9 at 7:30pm \nThu.\, 11/13\, Fri.\, 11/14 and Sat.\, 11/15 at 7:30pm
URL:https://highdesertbits.com/event/greenhouse-cabaret-presents-once-6/
LOCATION:Greenhouse Cabaret\, 1017 NE 2nd St.\, Bend\, OR\, 97701\, United States
END:VEVENT
END:VCALENDAR