BEGIN:VCALENDAR
VERSION:2.0
PRODID:-//High Desert B.I.T.S. - ECPv6.15.20//NONSGML v1.0//EN
CALSCALE:GREGORIAN
METHOD:PUBLISH
X-ORIGINAL-URL:https://highdesertbits.com
X-WR-CALDESC:Events for High Desert B.I.T.S.
REFRESH-INTERVAL;VALUE=DURATION:PT1H
X-Robots-Tag:noindex
X-PUBLISHED-TTL:PT1H
BEGIN:VTIMEZONE
TZID:UTC
BEGIN:STANDARD
TZOFFSETFROM:+0000
TZOFFSETTO:+0000
TZNAME:UTC
DTSTART:20240101T000000
END:STANDARD
END:VTIMEZONE
BEGIN:VEVENT
DTSTART;TZID=UTC:20251109T000000
DTEND;TZID=UTC:20251109T020000
DTSTAMP:20260424T013409
CREATED:20250926T153934Z
LAST-MODIFIED:20251103T153724Z
UID:2171-1762646400-1762653600@highdesertbits.com
SUMMARY:Thoroughly Modern Productions presents ROCKY HORROR SHOW at the Tower Theatre
DESCRIPTION:Thoroughly Modern Productions presents ROCKY HORROR SHOW at the Tower Theatre \nBook\, music and lyrics by Richard O’Brien \n  \nSun.\, November 9 at  Midnight and 7:30pm \nAt the Tower Theatre
URL:https://highdesertbits.com/event/thoroughly-modern-productions-presents-rocky-horror-show-at-the-tower-theatre-2/
LOCATION:Tower Theatre\, 835 NW Wall St\, Bend\, OR\, 97703\, United States
ORGANIZER;CN="TMP Thoroughly Modern Productions":MAILTO:tmpbend@gmail.com
END:VEVENT
BEGIN:VEVENT
DTSTART;TZID=UTC:20251109T193000
DTEND;TZID=UTC:20251109T213000
DTSTAMP:20260424T013409
CREATED:20251003T135428Z
LAST-MODIFIED:20251003T135428Z
UID:2206-1762716600-1762723800@highdesertbits.com
SUMMARY:Greenhouse Cabaret presents ONCE
DESCRIPTION:Greenhouse Cabaret presents ONCE \nMusic and lyrics by Glen Hansard and Markéta Irglová and book by Enda Walsh. \nSun.\, 11/9 at 7:30pm \nThu.\, 11/13\, Fri.\, 11/14 and Sat.\, 11/15 at 7:30pm
URL:https://highdesertbits.com/event/greenhouse-cabaret-presents-once-15/
LOCATION:Greenhouse Cabaret\, 1017 NE 2nd St.\, Bend\, OR\, 97701\, United States
END:VEVENT
END:VCALENDAR