BEGIN:VCALENDAR
VERSION:2.0
PRODID:-//High Desert B.I.T.S. - ECPv6.15.20//NONSGML v1.0//EN
CALSCALE:GREGORIAN
METHOD:PUBLISH
X-ORIGINAL-URL:https://highdesertbits.com
X-WR-CALDESC:Events for High Desert B.I.T.S.
REFRESH-INTERVAL;VALUE=DURATION:PT1H
X-Robots-Tag:noindex
X-PUBLISHED-TTL:PT1H
BEGIN:VTIMEZONE
TZID:UTC
BEGIN:STANDARD
TZOFFSETFROM:+0000
TZOFFSETTO:+0000
TZNAME:UTC
DTSTART:20240101T000000
END:STANDARD
END:VTIMEZONE
BEGIN:VEVENT
DTSTART;TZID=UTC:20251114T080000
DTEND;TZID=UTC:20251114T170000
DTSTAMP:20260424T013410
CREATED:20250907T133130Z
LAST-MODIFIED:20250907T133130Z
UID:1839-1763107200-1763139600@highdesertbits.com
SUMMARY:Silent Echo Theatre Company presents "NOW YOU'RE TALKING!"
DESCRIPTION:Silent Echo Theatre Company presents “NOW YOU’RE TALKING!” \nHoliday edition one acts \nThu.\, Nov 13 \nFri.\, Nov 14 \nSat.\, Nov 15 \nSun.\, Nov 16
URL:https://highdesertbits.com/event/silent-echo-theatre-company-presents-now-youre-talking-2/
LOCATION:OR
ORGANIZER;CN="Silent Echo Theatre Company":MAILTO:silentechotheatercompany@gmail.com
END:VEVENT
BEGIN:VEVENT
DTSTART;TZID=UTC:20251114T183000
DTEND;TZID=UTC:20251114T203000
DTSTAMP:20260424T013410
CREATED:20251110T135718Z
LAST-MODIFIED:20251110T135718Z
UID:2276-1763145000-1763152200@highdesertbits.com
SUMMARY:Ovation Performing Arts presents LITTLE MERMAID
DESCRIPTION:Ovation Performing Arts presents LITTLE MERMAID \nMusic by Alan Menken\, lyrics by Howard Ashman and Glenn Slater\, book by Doug Wright \nFri.\, 11/14 @ 6:30pm \nSat.\, 11/15 @ 6:30pm \nSun.\, 11/16 @ 3pm \nAt Redmond High School
URL:https://highdesertbits.com/event/ovation-performing-arts-presents-little-mermaid/
LOCATION:Redmond High School\, 675 SW Rimrock Way\, Redmond\, OR\, 97756
ORGANIZER;CN="Ovation Performing Arts":MAILTO:theatre@ovationpa.com
END:VEVENT
BEGIN:VEVENT
DTSTART;TZID=UTC:20251114T190000
DTEND;TZID=UTC:20251114T210000
DTSTAMP:20260424T013410
CREATED:20250919T220103Z
LAST-MODIFIED:20250919T220103Z
UID:2098-1763146800-1763154000@highdesertbits.com
SUMMARY:Mountain View HS  presents CLUE
DESCRIPTION:Mountain View HS presents CLUE \nby Jonathan Lynn\, Sandy Rustin\, Hunter Foster\, Eric Price and Michael Holland \nFri.\, 11/14 @7pm \nSat.\, 11/15@7pm \nSun.\, 11/16@2pm \nThu.\, 11/20@7pm \nFri.\, 11/21@7pm \nSat.\, 11/22@7pm
URL:https://highdesertbits.com/event/mountain-view-hs-presents-clue/
LOCATION:Mountain View High School\, 2755 NE 27th St\, Bend\, OR\, 97701
END:VEVENT
BEGIN:VEVENT
DTSTART;TZID=UTC:20251114T190000
DTEND;TZID=UTC:20251114T210000
DTSTAMP:20260424T013410
CREATED:20251105T165524Z
LAST-MODIFIED:20251105T165524Z
UID:2248-1763146800-1763154000@highdesertbits.com
SUMMARY:Ochoco Players presents A MURDERED MYSTERY & MURDER BY THE BOOK
DESCRIPTION:Ochoco Players presents A MURDERED MYSTERY & MURDER BY THE BOOK \nFri.\, 11/14 @ 7pm \nSat.\, 11/15 @ 7pm \nSun.\, 11/16 @ 2pm \nAt the Bowman Museum \nFree admission/ Donations appreciated
URL:https://highdesertbits.com/event/ochoco-players-presents-a-murdered-mystery-murder-by-the-book/
LOCATION:Bowman Historical Museum\, 246 N Main Street\, Prineville\, OR\, 97754\, United States
END:VEVENT
BEGIN:VEVENT
DTSTART;TZID=UTC:20251114T193000
DTEND;TZID=UTC:20251114T213000
DTSTAMP:20260424T013410
CREATED:20251003T135713Z
LAST-MODIFIED:20251003T135713Z
UID:2210-1763148600-1763155800@highdesertbits.com
SUMMARY:Greenhouse Cabaret presents ONCE
DESCRIPTION:Greenhouse Cabaret presents ONCE \nMusic and lyrics by Glen Hansard and Markéta Irglová and book by Enda Walsh. \n Fri.\, 11/14 and Sat.\, 11/15 at 7:30pm
URL:https://highdesertbits.com/event/greenhouse-cabaret-presents-once-17/
LOCATION:Greenhouse Cabaret\, 1017 NE 2nd St.\, Bend\, OR\, 97701\, United States
END:VEVENT
END:VCALENDAR