BEGIN:VCALENDAR
VERSION:2.0
PRODID:-//High Desert B.I.T.S. - ECPv6.15.20//NONSGML v1.0//EN
CALSCALE:GREGORIAN
METHOD:PUBLISH
X-WR-CALNAME:High Desert B.I.T.S.
X-ORIGINAL-URL:https://highdesertbits.com
X-WR-CALDESC:Events for High Desert B.I.T.S.
REFRESH-INTERVAL;VALUE=DURATION:PT1H
X-Robots-Tag:noindex
X-PUBLISHED-TTL:PT1H
BEGIN:VTIMEZONE
TZID:UTC
BEGIN:STANDARD
TZOFFSETFROM:+0000
TZOFFSETTO:+0000
TZNAME:UTC
DTSTART:20240101T000000
END:STANDARD
END:VTIMEZONE
BEGIN:VEVENT
DTSTART;TZID=UTC:20251128T193000
DTEND;TZID=UTC:20251128T213000
DTSTAMP:20260424T013309
CREATED:20251124T141613Z
LAST-MODIFIED:20251124T141613Z
UID:2299-1764358200-1764365400@highdesertbits.com
SUMMARY:Cascade Theatrical present EBENEZER SCROOGE'S BIG BEND CHRISTMAS SHOW
DESCRIPTION:Cascade Theatrical present EBENEZER SCROOGE’S BIG BEND CHRISTMAS SHOW \nby Gordon Greenberg and Steven Rosen \nFri.\, 11/28 @ 7:30pm \nSat.\, 11/29 @ 2pm and 7:30pm \nSun.\, 11/30 @ 2pm \n  \nThu.\, 12/4 @ 7:30pm \nFri.\, 12/5 @ 7:30pm \nSat.\, 12/6 @ 2pm and 7:30pm \nSun.\, 12/7 @ 2pm \n  \nThu.\, 12/11 @ 7:30pm \nFri.\, 12/12 @ 7:30pm \nSat.\, 12/13 @ 2pm and 7:30pm \nSun.\, 12/14 @ 2pm \n  \nSat.\, 12/20 @ 2pm \nSun.\, 12/21 @ 2pm
URL:https://highdesertbits.com/event/cascade-theatrical-present-ebenezer-scrooges-big-bend-christmas-show-14/
LOCATION:CTC Cascade Theatrical Company\, 148 NW Greenwood Ave\, Bend\, OR\, 97703
ORGANIZER;CN="CTC Cascade Theatrical Company":MAILTO:ctcinfo@cascadestheatrical.org
END:VEVENT
END:VCALENDAR