BEGIN:VCALENDAR
VERSION:2.0
PRODID:-//High Desert B.I.T.S. - ECPv6.15.20//NONSGML v1.0//EN
CALSCALE:GREGORIAN
METHOD:PUBLISH
X-WR-CALNAME:High Desert B.I.T.S.
X-ORIGINAL-URL:https://highdesertbits.com
X-WR-CALDESC:Events for High Desert B.I.T.S.
REFRESH-INTERVAL;VALUE=DURATION:PT1H
X-Robots-Tag:noindex
X-PUBLISHED-TTL:PT1H
BEGIN:VTIMEZONE
TZID:UTC
BEGIN:STANDARD
TZOFFSETFROM:+0000
TZOFFSETTO:+0000
TZNAME:UTC
DTSTART:20240101T000000
END:STANDARD
END:VTIMEZONE
BEGIN:VEVENT
DTSTART;TZID=UTC:20251202T180000
DTEND;TZID=UTC:20251202T210000
DTSTAMP:20260424T000344
CREATED:20250825T140212Z
LAST-MODIFIED:20250825T140212Z
UID:1747-1764698400-1764709200@highdesertbits.com
SUMMARY:AUDITIONS for CTC's BOEING\, BOEING
DESCRIPTION:AUDITIONS for CTC’s BOEING\, BOEING \nMon.\, 12/1 6-9pm \nTue.\, 12/2 6-9pm Call backs \nAt Deschutes Children’s Foundation
URL:https://highdesertbits.com/event/auditions-for-ctcs-boeing-boeing/
LOCATION:Deschutes Children’s Foundation\, 2125 NE Daggett\, Bend\, OR\, 97701
ORGANIZER;CN="CTC Cascade Theatrical Company":MAILTO:ctcinfo@cascadestheatrical.org
END:VEVENT
END:VCALENDAR