BEGIN:VCALENDAR
VERSION:2.0
PRODID:-//High Desert B.I.T.S. - ECPv6.15.20//NONSGML v1.0//EN
CALSCALE:GREGORIAN
METHOD:PUBLISH
X-WR-CALNAME:High Desert B.I.T.S.
X-ORIGINAL-URL:https://highdesertbits.com
X-WR-CALDESC:Events for High Desert B.I.T.S.
REFRESH-INTERVAL;VALUE=DURATION:PT1H
X-Robots-Tag:noindex
X-PUBLISHED-TTL:PT1H
BEGIN:VTIMEZONE
TZID:UTC
BEGIN:STANDARD
TZOFFSETFROM:+0000
TZOFFSETTO:+0000
TZNAME:UTC
DTSTART:20240101T000000
END:STANDARD
END:VTIMEZONE
BEGIN:VEVENT
DTSTART;TZID=UTC:20251207T140000
DTEND;TZID=UTC:20251207T160000
DTSTAMP:20260424T000352
CREATED:20250907T165922Z
LAST-MODIFIED:20251124T142918Z
UID:1946-1765116000-1765123200@highdesertbits.com
SUMMARY:Cascade Theatrical present EBENEZER SCROOGE'S BIG BEND CHRISTMAS SHOW
DESCRIPTION:Cascade Theatrical present EBENEZER SCROOGE’S BIG BEND CHRISTMAS SHOW \nby Gordon Greenberg and Steven Rosen \nSun.\, 12/7 @ 2pm \n  \nThu.\, 12/11 @ 7:30pm \nFri.\, 12/12 @ 7:30pm \nSat.\, 12/13 @ 2pm and 7:30pm \nSun.\, 12/14 @ 2pm \n  \nSat.\, 12/20 @ 2pm \nSun.\, 12/21 @ 2pm
URL:https://highdesertbits.com/event/cascade-theatrical-present-ebenezer-scrooges-big-bend-christmas-show-4/
LOCATION:CTC Cascade Theatrical Company\, 148 NW Greenwood Ave\, Bend\, OR\, 97703
ORGANIZER;CN="CTC Cascade Theatrical Company":MAILTO:ctcinfo@cascadestheatrical.org
END:VEVENT
BEGIN:VEVENT
DTSTART;TZID=UTC:20251207T140000
DTEND;TZID=UTC:20251207T160000
DTSTAMP:20260424T000352
CREATED:20251118T153445Z
LAST-MODIFIED:20251118T153503Z
UID:2290-1765116000-1765123200@highdesertbits.com
SUMMARY:Caldera High School presents FROZEN\, JR
DESCRIPTION:Caldera High School presents FROZEN\, JR \nMusic and lyrics by Kristin Anderson-Lopez and Robert Lopez \nBook by Jennifer Lee. \nSun.\, Dec. 7 @ 2pm \nAt Caldera High School
URL:https://highdesertbits.com/event/caldera-high-school-presents-frozen-jr-5/
LOCATION:Caldera High School\, 60925 SE 15th St\,\, Bend\, OR\, 97702\, United States
END:VEVENT
BEGIN:VEVENT
DTSTART;TZID=UTC:20251207T140000
DTEND;TZID=UTC:20251207T170000
DTSTAMP:20260424T000352
CREATED:20250620T130654Z
LAST-MODIFIED:20251201T060722Z
UID:1623-1765116000-1765126800@highdesertbits.com
SUMMARY:Summit High School presents HEADS OVER HEELS: High School Edition
DESCRIPTION:Summit High School presents HEADS OVER HEELS: High School Edition \nSongs by the Go-Go’s\, based on ‘The Arcadia’ by Sir Philip Sidney\, Conceived and original book by Jeff Whitty\, adapted by James Magruder \nFri.\, Dec. 5 @ 7pm \nSat.\, Dec. 6 @ 7pm \nSun.\, Dec. 7@ 2pm \nThu.\, Dec. 11 @ 7pm \nFri.\, Dec. 12 @ 7pm \nSat.\, Dec. 13. @ 7pm
URL:https://highdesertbits.com/event/summit-high-school-presents-heads-over-heels-high-school-edition-3/
LOCATION:OR
END:VEVENT
END:VCALENDAR