BEGIN:VCALENDAR
VERSION:2.0
PRODID:-//High Desert B.I.T.S. - ECPv6.15.20//NONSGML v1.0//EN
CALSCALE:GREGORIAN
METHOD:PUBLISH
X-ORIGINAL-URL:https://highdesertbits.com
X-WR-CALDESC:Events for High Desert B.I.T.S.
REFRESH-INTERVAL;VALUE=DURATION:PT1H
X-Robots-Tag:noindex
X-PUBLISHED-TTL:PT1H
BEGIN:VTIMEZONE
TZID:UTC
BEGIN:STANDARD
TZOFFSETFROM:+0000
TZOFFSETTO:+0000
TZNAME:UTC
DTSTART:20250101T000000
END:STANDARD
END:VTIMEZONE
BEGIN:VEVENT
DTSTART;TZID=UTC:20260124T080000
DTEND;TZID=UTC:20260124T170000
DTSTAMP:20260423T222544
CREATED:20250907T134345Z
LAST-MODIFIED:20250907T134345Z
UID:1852-1769241600-1769274000@highdesertbits.com
SUMMARY:Ponderosa Players present THE LITTLE PRINCE
DESCRIPTION:Ponderosa Players present THE LITTLE PRINCE \nDrama by RICK CUMMINS and JOHN SCOULLAR\nbased on the book by ANTOINE de SAINT-EXUPÉRY \nWed.\, Jan 21 \nThu.\, Jan 22 \nFri.\, Jan 23 \nSat.\, Jan 24
URL:https://highdesertbits.com/event/ponderosa-players-present-the-little-prince-4/
LOCATION:OR
END:VEVENT
BEGIN:VEVENT
DTSTART;TZID=UTC:20260124T180000
DTEND;TZID=UTC:20260124T213000
DTSTAMP:20260423T222544
CREATED:20260107T163436Z
LAST-MODIFIED:20260107T163436Z
UID:2342-1769277600-1769290200@highdesertbits.com
SUMMARY:Summit HS presents TORCHSONG Dinner Cabaret and Silent Auction
DESCRIPTION:Summit HS presents TORCHSONG Dinner Cabaret and Silent Auction \nSat.\, January 24 Doors open at 6pm with a 7pm curtain \nSeating is limited so get your tickets now!
URL:https://highdesertbits.com/event/summit-hs-presents-torchsong-dinner-cabaret-and-silent-auction-2/
LOCATION:Aspen Hall\, 18920 NW Shevlin Park Rd\, Bend\, OR\, 97753\, United States
END:VEVENT
END:VCALENDAR