BEGIN:VCALENDAR
VERSION:2.0
PRODID:-//High Desert B.I.T.S. - ECPv6.15.20//NONSGML v1.0//EN
CALSCALE:GREGORIAN
METHOD:PUBLISH
X-WR-CALNAME:High Desert B.I.T.S.
X-ORIGINAL-URL:https://highdesertbits.com
X-WR-CALDESC:Events for High Desert B.I.T.S.
REFRESH-INTERVAL;VALUE=DURATION:PT1H
X-Robots-Tag:noindex
X-PUBLISHED-TTL:PT1H
BEGIN:VTIMEZONE
TZID:UTC
BEGIN:STANDARD
TZOFFSETFROM:+0000
TZOFFSETTO:+0000
TZNAME:UTC
DTSTART:20250101T000000
END:STANDARD
END:VTIMEZONE
BEGIN:VEVENT
DTSTART;TZID=UTC:20260220T190000
DTEND;TZID=UTC:20260220T210000
DTSTAMP:20260423T205017
CREATED:20260127T135315Z
LAST-MODIFIED:20260127T140852Z
UID:2367-1771614000-1771621200@highdesertbits.com
SUMMARY:Ridgeview High School presents GREASE
DESCRIPTION:Ridgeview High School presents GREASE \nBook\, music and lyrics by Jim Jacobs and Warren Casey with arrangements for Sandy\, You’re the One That I Want and Hopelessly Devoted To you by Robert Stigwood \nFri.\, 2/20 @ 7pm \nSat.\, 2/21 @ 2pm and 7pm \n  \nThu.\, 2/26 @ 7pm \nFri.\, 2/27 @ 7pm \nSat.\, 2/28 @ 2pm and 7pm \nTickets at https://Ridgeviewhs.seatyourself.biz
URL:https://highdesertbits.com/event/ridgeview-high-school-presents-grease-2/
LOCATION:Ridgeview High School\, 4555 SW Elkhorn Ave\, Redmond\, OR\, 97756
END:VEVENT
BEGIN:VEVENT
DTSTART;TZID=UTC:20260220T190000
DTEND;TZID=UTC:20260220T210000
DTSTAMP:20260423T205017
CREATED:20260127T142020Z
LAST-MODIFIED:20260127T142020Z
UID:2383-1771614000-1771621200@highdesertbits.com
SUMMARY:BEAT Childrens Theatre presents SHREK Jr.
DESCRIPTION:BEAT Childrens Theatre presents SHREK Jr. \nBook and lyrics by David Lindsay-Abaire\, Music by Jeanin Tesori \nFri.\, 2/20 @ 7pm \nSat.\, 2/21 @ 2pm and 7pm \nSun.\, 2/22 @ 2pm \n  \nAt Summit High School
URL:https://highdesertbits.com/event/beat-childrens-theatre-presents-shrek-jr/
LOCATION:Summit High School\, 2855 NW Clearwater Dr\,\, Bend\, OR\, 97703\, United States
END:VEVENT
BEGIN:VEVENT
DTSTART;TZID=UTC:20260220T190000
DTEND;TZID=UTC:20260220T220000
DTSTAMP:20260423T205017
CREATED:20250907T135742Z
LAST-MODIFIED:20250907T140600Z
UID:1857-1771614000-1771624800@highdesertbits.com
SUMMARY:Ponderosa Players present SPRING AWAKENING
DESCRIPTION:Ponderosa Players present SPRING AWAKENING \nMusic by Duncan Sheik\, book and lyrics by Steven Slater .  It is based on the 1891 German play by Frank Wedekind. \nThu.\, Feb 19 @ 7pm \nFri.\, Feb 20 @ 7pm \nSat.\, Feb 21 @ 2 pm and 7pm \nSun.\, Feb 22 @ 2pm \n  \nThu.\, Feb 26 @ 7pm \nFri.\, Feb 27 @ 7pm \nSat.\, Feb 28 @ 2pm and 7pm
URL:https://highdesertbits.com/event/ponderosa-players-present-spring-awakening-3/
LOCATION:Ponderosa Playhouse\, 211 NE Revere Ave\, Suite #4\, Bend\, OR
END:VEVENT
BEGIN:VEVENT
DTSTART;TZID=UTC:20260220T193000
DTEND;TZID=UTC:20260220T213000
DTSTAMP:20260423T205017
CREATED:20250908T053616Z
LAST-MODIFIED:20250908T053616Z
UID:2001-1771615800-1771623000@highdesertbits.com
SUMMARY:Cascades Theatrical Company presents BOEING\, BOEING
DESCRIPTION:Cascades Theatrical Company presents BOEING\, BOEING \nBy Marc Camoletti \nFri.\, Feb 20 @ 7:30pm \nSat.\, Feb 21 @ 7:30pm \nSun.\, Feb 22 8 @ 2pm
URL:https://highdesertbits.com/event/cascades-theatrical-company-presents-boeing-boeing-8/
LOCATION:CTC Cascade Theatrical Company\, 148 NW Greenwood Ave\, Bend\, OR\, 97703
ORGANIZER;CN="CTC Cascade Theatrical Company":MAILTO:ctcinfo@cascadestheatrical.org
END:VEVENT
END:VCALENDAR