BEGIN:VCALENDAR
VERSION:2.0
PRODID:-//High Desert B.I.T.S. - ECPv6.15.20//NONSGML v1.0//EN
CALSCALE:GREGORIAN
METHOD:PUBLISH
X-WR-CALNAME:High Desert B.I.T.S.
X-ORIGINAL-URL:https://highdesertbits.com
X-WR-CALDESC:Events for High Desert B.I.T.S.
REFRESH-INTERVAL;VALUE=DURATION:PT1H
X-Robots-Tag:noindex
X-PUBLISHED-TTL:PT1H
BEGIN:VTIMEZONE
TZID:UTC
BEGIN:STANDARD
TZOFFSETFROM:+0000
TZOFFSETTO:+0000
TZNAME:UTC
DTSTART:20250101T000000
END:STANDARD
END:VTIMEZONE
BEGIN:VEVENT
DTSTART;TZID=UTC:20260222T140000
DTEND;TZID=UTC:20260222T160000
DTSTAMP:20260423T205023
CREATED:20250908T054052Z
LAST-MODIFIED:20250908T054052Z
UID:2005-1771768800-1771776000@highdesertbits.com
SUMMARY:Cascades Theatrical Company presents BOEING\, BOEING
DESCRIPTION:Cascades Theatrical Company presents BOEING\, BOEING \nBy Marc Camoletti \nSun.\, Feb 22 8 @ 2pm
URL:https://highdesertbits.com/event/cascades-theatrical-company-presents-boeing-boeing-10/
LOCATION:CTC Cascade Theatrical Company\, 148 NW Greenwood Ave\, Bend\, OR\, 97703
ORGANIZER;CN="CTC Cascade Theatrical Company":MAILTO:ctcinfo@cascadestheatrical.org
END:VEVENT
BEGIN:VEVENT
DTSTART;TZID=UTC:20260222T140000
DTEND;TZID=UTC:20260222T160000
DTSTAMP:20260423T205023
CREATED:20260127T142526Z
LAST-MODIFIED:20260127T142526Z
UID:2389-1771768800-1771776000@highdesertbits.com
SUMMARY:BEAT Childrens Theatre presents SHREK Jr.
DESCRIPTION:BEAT Childrens Theatre presents SHREK Jr. \nBook and lyrics by David Lindsay-Abaire\, Music by Jeanin Tesori \nSun.\, 2/22 @ 2pm \n  \nAt Summit High School
URL:https://highdesertbits.com/event/beat-childrens-theatre-presents-shrek-jr-4/
LOCATION:Summit High School\, 2855 NW Clearwater Dr\,\, Bend\, OR\, 97703\, United States
END:VEVENT
BEGIN:VEVENT
DTSTART;TZID=UTC:20260222T140000
DTEND;TZID=UTC:20260222T160000
DTSTAMP:20260423T205023
CREATED:20260216T173600Z
LAST-MODIFIED:20260216T173600Z
UID:2397-1771768800-1771776000@highdesertbits.com
SUMMARY:Thoroughly Modern Productions presents PETER PAN at the Tower Theatre
DESCRIPTION:Thoroughly Modern Productions presents PETER PAN at the Tower Theatre \nSat.\, 2/21 @ 2pm and 7:30pm \nSun.\, 2/22 @ 2pm \n  \nThu.\, 2/26 @ 7:30pm \nFri.\, 2/27 @ 7:30pm \nSat.\, 2/28 @ 2pm and 7:30pm \nSun.\, 3/1 @ 2pm and 7:30pm
URL:https://highdesertbits.com/event/thoroughly-modern-productions-presents-peter-pan-at-the-tower-theatre/
LOCATION:Tower Theatre\, 835 NW Wall St\, Bend\, OR\, 97703\, United States
ORGANIZER;CN="TMP Thoroughly Modern Productions":MAILTO:tmpbend@gmail.com
END:VEVENT
BEGIN:VEVENT
DTSTART;TZID=UTC:20260222T140000
DTEND;TZID=UTC:20260222T160000
DTSTAMP:20260423T205023
CREATED:20260216T173925Z
LAST-MODIFIED:20260216T173925Z
UID:2401-1771768800-1771776000@highdesertbits.com
SUMMARY:Thoroughly Modern Productions presents PETER PAN at the Tower Theatre
DESCRIPTION:Thoroughly Modern Productions presents PETER PAN at the Tower Theatre \nSun.\, 2/22 @ 2pm \n  \nThu.\, 2/26 @ 7:30pm \nFri.\, 2/27 @ 7:30pm \nSat.\, 2/28 @ 2pm and 7:30pm \nSun.\, 3/1 @ 2pm and 7:30pm
URL:https://highdesertbits.com/event/thoroughly-modern-productions-presents-peter-pan-at-the-tower-theatre-3/
LOCATION:Tower Theatre\, 835 NW Wall St\, Bend\, OR\, 97703\, United States
ORGANIZER;CN="TMP Thoroughly Modern Productions":MAILTO:tmpbend@gmail.com
END:VEVENT
BEGIN:VEVENT
DTSTART;TZID=UTC:20260222T140000
DTEND;TZID=UTC:20260222T170000
DTSTAMP:20260423T205023
CREATED:20250907T141053Z
LAST-MODIFIED:20250907T141053Z
UID:1865-1771768800-1771779600@highdesertbits.com
SUMMARY:Ponderosa Players present SPRING AWAKENING
DESCRIPTION:Ponderosa Players present SPRING AWAKENING \nMusic by Duncan Sheik\, book and lyrics by Steven Slater .  It is based on the 1891 German play by Frank Wedekind. \nThu.\, Feb 19 @ 7pm \nFri.\, Feb 20 @ 7pm \nSat.\, Feb 21 @ 2 pm and 7pm \nSun.\, Feb 22 @ 2pm \n  \nThu.\, Feb 26 @ 7pm \nFri.\, Feb 27 @ 7pm \nSat.\, Feb 28 @ 2pm and 7pm
URL:https://highdesertbits.com/event/ponderosa-players-present-spring-awakening-6/
LOCATION:Ponderosa Playhouse\, 211 NE Revere Ave\, Suite #4\, Bend\, OR
END:VEVENT
END:VCALENDAR