BEGIN:VCALENDAR
VERSION:2.0
PRODID:-//High Desert B.I.T.S. - ECPv6.15.20//NONSGML v1.0//EN
CALSCALE:GREGORIAN
METHOD:PUBLISH
X-ORIGINAL-URL:https://highdesertbits.com
X-WR-CALDESC:Events for High Desert B.I.T.S.
REFRESH-INTERVAL;VALUE=DURATION:PT1H
X-Robots-Tag:noindex
X-PUBLISHED-TTL:PT1H
BEGIN:VTIMEZONE
TZID:UTC
BEGIN:STANDARD
TZOFFSETFROM:+0000
TZOFFSETTO:+0000
TZNAME:UTC
DTSTART:20250101T000000
END:STANDARD
END:VTIMEZONE
BEGIN:VEVENT
DTSTART;TZID=UTC:20260301T140000
DTEND;TZID=UTC:20260301T160000
DTSTAMP:20260423T191848
CREATED:20250919T221847Z
LAST-MODIFIED:20250919T221847Z
UID:2115-1772373600-1772380800@highdesertbits.com
SUMMARY:Mountain View High School presents LITTLE WOMEN\, THE MUSICAL
DESCRIPTION:Mountain View High School presents LITTLE WOMEN\, THE MUSICAL \nBook by Allan Knee\, lyrics by Mindi Dickstein and music by Jason Howland\, based on the novel by Louisa May Alcott \nSun.\, Mar 1 @ 2pm \nFri.\, Mar 6 @ 7pm \nSat.\, Mar 7 @ 7pm \nSun.\, Mar 8 @ 2pm
URL:https://highdesertbits.com/event/mountain-view-high-school-presents-little-women-the-musical-3/
LOCATION:Mountain View High School\, 2755 NE 27th St\, Bend\, OR\, 97701
END:VEVENT
BEGIN:VEVENT
DTSTART;TZID=UTC:20260301T140000
DTEND;TZID=UTC:20260301T160000
DTSTAMP:20260423T191848
CREATED:20260216T174755Z
LAST-MODIFIED:20260216T174755Z
UID:2412-1772373600-1772380800@highdesertbits.com
SUMMARY:Thoroughly Modern Productions presents PETER PAN at the Tower Theatre
DESCRIPTION:Thoroughly Modern Productions presents PETER PAN at the Tower Theatre \nSun.\, 3/1 @ 2pm and 7:30pm
URL:https://highdesertbits.com/event/thoroughly-modern-productions-presents-peter-pan-at-the-tower-theatre-7/
LOCATION:Tower Theatre\, 835 NW Wall St\, Bend\, OR\, 97703\, United States
ORGANIZER;CN="TMP Thoroughly Modern Productions":MAILTO:tmpbend@gmail.com
END:VEVENT
BEGIN:VEVENT
DTSTART;TZID=UTC:20260301T193000
DTEND;TZID=UTC:20260301T213000
DTSTAMP:20260423T191848
CREATED:20260216T174923Z
LAST-MODIFIED:20260216T174923Z
UID:2414-1772393400-1772400600@highdesertbits.com
SUMMARY:Thoroughly Modern Productions presents PETER PAN at the Tower Theatre
DESCRIPTION:Thoroughly Modern Productions presents PETER PAN at the Tower Theatre \nSun.\, 3/1 @  7:30pm
URL:https://highdesertbits.com/event/thoroughly-modern-productions-presents-peter-pan-at-the-tower-theatre-8/
LOCATION:Tower Theatre\, 835 NW Wall St\, Bend\, OR\, 97703\, United States
ORGANIZER;CN="TMP Thoroughly Modern Productions":MAILTO:tmpbend@gmail.com
END:VEVENT
END:VCALENDAR