BEGIN:VCALENDAR
VERSION:2.0
PRODID:-//High Desert B.I.T.S. - ECPv6.15.20//NONSGML v1.0//EN
CALSCALE:GREGORIAN
METHOD:PUBLISH
X-ORIGINAL-URL:https://highdesertbits.com
X-WR-CALDESC:Events for High Desert B.I.T.S.
REFRESH-INTERVAL;VALUE=DURATION:PT1H
X-Robots-Tag:noindex
X-PUBLISHED-TTL:PT1H
BEGIN:VTIMEZONE
TZID:UTC
BEGIN:STANDARD
TZOFFSETFROM:+0000
TZOFFSETTO:+0000
TZNAME:UTC
DTSTART:20250101T000000
END:STANDARD
END:VTIMEZONE
BEGIN:VEVENT
DTSTART;TZID=UTC:20260315T090000
DTEND;TZID=UTC:20260315T120000
DTSTAMP:20260423T191930
CREATED:20260307T190551Z
LAST-MODIFIED:20260307T190551Z
UID:2446-1773565200-1773576000@highdesertbits.com
SUMMARY:Ellipse Theatre Community fundraiser Not'cho Grandma's Bingo
DESCRIPTION:Ellipse Theatre Community fundraiser Not’cho Grandma’s Bingo \nSun.\, March 15 9am-Noon \nSilver Moon Brewing \nwww.eventbrite.com
URL:https://highdesertbits.com/event/ellipse-theatre-community-fundraiser-notcho-grandmas-bingo/
LOCATION:sil\, 24 NW Greenwood\, Bend\, United States
END:VEVENT
BEGIN:VEVENT
DTSTART;TZID=UTC:20260315T150000
DTEND;TZID=UTC:20260315T170000
DTSTAMP:20260423T191930
CREATED:20260217T004141Z
LAST-MODIFIED:20260217T004141Z
UID:2428-1773586800-1773594000@highdesertbits.com
SUMMARY:Meadow Sky Productions presents MUCH ADO ABOUT NOTHING
DESCRIPTION:Meadow Sky Productions presents MUCH ADO ABOUT NOTHING \nBy Willliam Shakespeare \nSun.\, 3/15 @ 3pm \n  \nFri.\, 3/20 @ 7pm \nSat.\, 3/21 @ 2pm and 7pm \nSun.\, 3/22 @ 3pm \nAt Redmond’s High Desert Music Hall
URL:https://highdesertbits.com/event/meadow-sky-productions-presents-much-ado-about-nothing-4/
LOCATION:High Desert Music Hall\, 818 SW Forest Ave\, Redmond\, OR\, 97756
END:VEVENT
END:VCALENDAR