BEGIN:VCALENDAR
VERSION:2.0
PRODID:-//High Desert B.I.T.S. - ECPv6.15.20//NONSGML v1.0//EN
CALSCALE:GREGORIAN
METHOD:PUBLISH
X-WR-CALNAME:High Desert B.I.T.S.
X-ORIGINAL-URL:https://highdesertbits.com
X-WR-CALDESC:Events for High Desert B.I.T.S.
REFRESH-INTERVAL;VALUE=DURATION:PT1H
X-Robots-Tag:noindex
X-PUBLISHED-TTL:PT1H
BEGIN:VTIMEZONE
TZID:UTC
BEGIN:STANDARD
TZOFFSETFROM:+0000
TZOFFSETTO:+0000
TZNAME:UTC
DTSTART:20250101T000000
END:STANDARD
END:VTIMEZONE
BEGIN:VEVENT
DTSTART;TZID=UTC:20260411T140000
DTEND;TZID=UTC:20260411T160000
DTSTAMP:20260423T175215
CREATED:20260330T123922Z
LAST-MODIFIED:20260406T123652Z
UID:2460-1775916000-1775923200@highdesertbits.com
SUMMARY:Ellipse Theatre Community presents INTO THE BREECHES
DESCRIPTION:EllipseTheatre Community presents INTO THE BREECHES \nBy George Brant \nSat.\, 4/11 Open Space @ 2pm and 7pm \nSun.\, High Desert Music Hall 2pm and 7pm (Redmond) \n  \nSat.\, 4/18 Sunriver Christian Fellowship at 2pm \nSun.\, 4/19 LaPine Activity Center @ 2pm \n  \nSat.\, 4/25 Sisters/ Camp Sherman RFPD Center @ 2pm and 7pm \nSun.\, 4/26 Bowman Museum @ 2pm (Prineville) \n  \nSat.\, 5/2 Unity Community Central Oregon @ 3pm
URL:https://highdesertbits.com/event/ellipse-community-theatre-presents-into-the-breeches-2/
LOCATION:Open Space Event Studio\, 220 NE Lafayette Ave\, Bend\, OR\, 97701
ORGANIZER;CN="ETC Ellipse Theatre Community":MAILTO:https://www.etcbend.org/contact
END:VEVENT
BEGIN:VEVENT
DTSTART;TZID=UTC:20260411T190000
DTEND;TZID=UTC:20260411T210000
DTSTAMP:20260423T175215
CREATED:20260330T124140Z
LAST-MODIFIED:20260406T123620Z
UID:2462-1775934000-1775941200@highdesertbits.com
SUMMARY:Ellipse  Theatre Community presents INTO THE BREECHES
DESCRIPTION:Ellipse Theatre Community presents INTO THE BREECHES \nBy George Brant \nSat.\, 4/11 Open Space @ 7pm \nSun.\, 4/12 High Desert Music Hall 2pm and 7pm (Redmond) \n  \nSat.\, 4/18 Sunriver Christian Fellowship at 2pm \nSun.\, 4/19 LaPine Activity Center @ 2pm \n  \nSat.\, 4/25 Sisters/ Camp Sherman RFPD Center @ 2pm and 7pm \nSun.\, 4/26 Bowman Museum @ 2pm (Prineville) \n  \nSat.\, 5/2 Unity Community Central Oregon @ 3pm
URL:https://highdesertbits.com/event/ellipse-community-theatre-presents-into-the-breeches-3/
LOCATION:Open Space Event Studio\, 220 NE Lafayette Ave\, Bend\, OR\, 97701
ORGANIZER;CN="ETC Ellipse Theatre Community":MAILTO:https://www.etcbend.org/contact
END:VEVENT
BEGIN:VEVENT
DTSTART;TZID=UTC:20260411T193000
DTEND;TZID=UTC:20260411T220000
DTSTAMP:20260423T175215
CREATED:20260331T130541Z
LAST-MODIFIED:20260331T130541Z
UID:2493-1775935800-1775944800@highdesertbits.com
SUMMARY:Greenhouse Cabaret presents Natasha\, Pierre & the Great Comet of 1812
DESCRIPTION:Greenhouse Cabaret presents Natasha\, Pierre & the Great Comet of 1812 \nElectropop Opera by Dave Malloy \nSat.\, 4/11 @ 7:30pm \nSun.\, 4/12 @ 7:30pm \n  \nThu.\, 4/16@ 7:30pm \nFri.\, 4/17/@ 7:30pm \nSat.\, 4/18 @ 7:30pm \nSun.\, 4/19 @ 7:30pm \n  \nThu.\, 4/23 @ 7:30pm \nFri.\, 4/24 /@ 7:30pm \nSat.\, 4/25 @ 7:30pm \nSun.\, 4/26 @ 7:30pm \n  \nThu.\, 4/30 @ 7:30pm \nFri.\, 5/1 /@ 7:30pm \nSat.\, 5/2 @ 7:30pm
URL:https://highdesertbits.com/event/greenhouse-cabaret-presents-natasha-pierre-the-great-comet-of-1812-6/
LOCATION:Greenhouse Cabaret\, 1017 NE 2nd St.\, Bend\, OR\, 97701\, United States
END:VEVENT
END:VCALENDAR