BEGIN:VCALENDAR
VERSION:2.0
PRODID:-//High Desert B.I.T.S. - ECPv6.15.20//NONSGML v1.0//EN
CALSCALE:GREGORIAN
METHOD:PUBLISH
X-WR-CALNAME:High Desert B.I.T.S.
X-ORIGINAL-URL:https://highdesertbits.com
X-WR-CALDESC:Events for High Desert B.I.T.S.
REFRESH-INTERVAL;VALUE=DURATION:PT1H
X-Robots-Tag:noindex
X-PUBLISHED-TTL:PT1H
BEGIN:VTIMEZONE
TZID:UTC
BEGIN:STANDARD
TZOFFSETFROM:+0000
TZOFFSETTO:+0000
TZNAME:UTC
DTSTART:20250101T000000
END:STANDARD
END:VTIMEZONE
BEGIN:VEVENT
DTSTART;TZID=UTC:20260415T180000
DTEND;TZID=UTC:20260415T190000
DTSTAMP:20260423T175215
CREATED:20250907T131459Z
LAST-MODIFIED:20260331T132632Z
UID:1826-1776276000-1776279600@highdesertbits.com
SUMMARY:Crook County High School presents A YEAR WITH FROG AND TOAD
DESCRIPTION:Crook County High School presents A YEAR WITH FROG AND TOAD \nWritten by brothers Robert (music) and Willie Reale (book and lyrics)\, based on the Frog and Toad children’s stories written and illustrated by Arnold Lobel. \nTue.\, April 14 @ 6pm \nWed.\, April 15 @ 6pm
URL:https://highdesertbits.com/event/crook-county-high-school-presents-a-year-with-frog-and-toad-2/
LOCATION:Crook County High School\, 1100 SE Lynn Blvd\, Prineville\, OR\, 97754
END:VEVENT
END:VCALENDAR