BEGIN:VCALENDAR
VERSION:2.0
PRODID:-//High Desert B.I.T.S. - ECPv6.15.20//NONSGML v1.0//EN
CALSCALE:GREGORIAN
METHOD:PUBLISH
X-ORIGINAL-URL:https://highdesertbits.com
X-WR-CALDESC:Events for High Desert B.I.T.S.
REFRESH-INTERVAL;VALUE=DURATION:PT1H
X-Robots-Tag:noindex
X-PUBLISHED-TTL:PT1H
BEGIN:VTIMEZONE
TZID:UTC
BEGIN:STANDARD
TZOFFSETFROM:+0000
TZOFFSETTO:+0000
TZNAME:UTC
DTSTART:20250101T000000
END:STANDARD
END:VTIMEZONE
BEGIN:VEVENT
DTSTART;TZID=UTC:20260418T140000
DTEND;TZID=UTC:20260418T160000
DTSTAMP:20260423T175411
CREATED:20260330T124904Z
LAST-MODIFIED:20260330T124904Z
UID:2468-1776520800-1776528000@highdesertbits.com
SUMMARY:Ellipse Community Theatre presents INTO THE BREECHES
DESCRIPTION:Ellipse Community Theatre presents INTO THE BREECHES \nBy George Brant \nSat.\, 4/18 Sunriver Christian Fellowship at 2pm \nSun.\, 4/19 LaPine Activity Center @ 2pm \n  \nSat.\, 4/25 Sisters/ Camp Sherman RFPD Center @ 2pm and 7pm \nSun.\, 4/26 Bowman Museum @ 2pm (Prineville) \n  \nSat.\, 5/2 Unity Community Central Oregon @ 3pm and 7pm
URL:https://highdesertbits.com/event/ellipse-community-theatre-presents-into-the-breeches-6/
LOCATION:Sunriver Christian Fellowship\, 18139 Cottonwood Road\, Sunriver\, OR\, 97707
ORGANIZER;CN="ETC Ellipse Theatre Community":MAILTO:https://www.etcbend.org/contact
END:VEVENT
BEGIN:VEVENT
DTSTART;TZID=UTC:20260418T193000
DTEND;TZID=UTC:20260418T220000
DTSTAMP:20260423T175411
CREATED:20260331T131113Z
LAST-MODIFIED:20260331T131113Z
UID:2501-1776540600-1776549600@highdesertbits.com
SUMMARY:Greenhouse Cabaret presents Natasha\, Pierre & the Great Comet of 1812
DESCRIPTION:Greenhouse Cabaret presents Natasha\, Pierre & the Great Comet of 1812 \nElectropop Opera by Dave Malloy \nSat.\, 4/18 @ 7:30pm \nSun.\, 4/19 @ 7:30pm \n  \nThu.\, 4/23 @ 7:30pm \nFri.\, 4/24 /@ 7:30pm \nSat.\, 4/25 @ 7:30pm \nSun.\, 4/26 @ 7:30pm \n  \nThu.\, 4/30 @ 7:30pm \nFri.\, 5/1 /@ 7:30pm \nSat.\, 5/2 @ 7:30pm
URL:https://highdesertbits.com/event/greenhouse-cabaret-presents-natasha-pierre-the-great-comet-of-1812-10/
LOCATION:Greenhouse Cabaret\, 1017 NE 2nd St.\, Bend\, OR\, 97701\, United States
END:VEVENT
END:VCALENDAR