BEGIN:VCALENDAR
VERSION:2.0
PRODID:-//High Desert B.I.T.S. - ECPv6.15.20//NONSGML v1.0//EN
CALSCALE:GREGORIAN
METHOD:PUBLISH
X-WR-CALNAME:High Desert B.I.T.S.
X-ORIGINAL-URL:https://highdesertbits.com
X-WR-CALDESC:Events for High Desert B.I.T.S.
REFRESH-INTERVAL;VALUE=DURATION:PT1H
X-Robots-Tag:noindex
X-PUBLISHED-TTL:PT1H
BEGIN:VTIMEZONE
TZID:UTC
BEGIN:STANDARD
TZOFFSETFROM:+0000
TZOFFSETTO:+0000
TZNAME:UTC
DTSTART:20250101T000000
END:STANDARD
END:VTIMEZONE
BEGIN:VEVENT
DTSTART;TZID=UTC:20260426T140000
DTEND;TZID=UTC:20260426T160000
DTSTAMP:20260423T175215
CREATED:20250620T133849Z
LAST-MODIFIED:20250620T133849Z
UID:1645-1777212000-1777219200@highdesertbits.com
SUMMARY:Summit High School presents SHE KILLS MONSTERS: Young Adventurer's Edition
DESCRIPTION:Summit High School presents SHE KILLS MONSTERS: Young Adventurer’s Edition \nBy Qui Nguyen \nThu.\, April 23 @ 7pm \nFri.\, April 24 @ 7pm \nSat.\, April 25 @ 7pm \nSun.\, April 26 @ 2pm
URL:https://highdesertbits.com/event/summit-high-school-presents-she-kills-monsters-young-adventurers-edition-4/
LOCATION:Summit High School\, 2855 NW Clearwater Dr\,\, Bend\, OR\, 97703\, United States
END:VEVENT
BEGIN:VEVENT
DTSTART;TZID=UTC:20260426T140000
DTEND;TZID=UTC:20260426T160000
DTSTAMP:20260423T175215
CREATED:20250908T131530Z
LAST-MODIFIED:20250908T131530Z
UID:2034-1777212000-1777219200@highdesertbits.com
SUMMARY:Cascade Theatrical Company presents AMERICAN BUFFALO
DESCRIPTION:Cascade Theatrical Company presents AMERICAN BUFFALO \nBy David Mamet \nSun.\, 4/26 @ 2pm \n  \nThu.\, 4/30 @ 7:30pm \nFri.\, 5/1 @ 7:30pm \nSat.\, 5/2 @ 7:30pm \nSun.\, 5/3 @ 2pm \n  \nThu.\, 5/7 @ 7:30pm \nFri.\, 5/8 @ 7:30pm \nSat.\, 5/9 @ 7:30pm \nSun.\, 5/10 @ 2pm
URL:https://highdesertbits.com/event/cascade-theatrical-company-presents-american-buffalo-3/
LOCATION:CTC Cascade Theatrical Company\, 148 NW Greenwood Ave\, Bend\, OR\, 97703
ORGANIZER;CN="CTC Cascade Theatrical Company":MAILTO:ctcinfo@cascadestheatrical.org
END:VEVENT
BEGIN:VEVENT
DTSTART;TZID=UTC:20260426T140000
DTEND;TZID=UTC:20260426T160000
DTSTAMP:20260423T175215
CREATED:20260330T125507Z
LAST-MODIFIED:20260406T123150Z
UID:2476-1777212000-1777219200@highdesertbits.com
SUMMARY:Ellipse Theatre Community  presents INTO THE BREECHES
DESCRIPTION:Ellipse Theatre Community  presents INTO THE BREECHES \nBy George Brant \nSun.\, 4/26 Bowman Museum @ 2pm (Prineville) \n  \nSat.\, 5/2 Unity Community Central Oregon @ 3pm and 7pm
URL:https://highdesertbits.com/event/ellipse-community-theatre-presents-into-the-breeches-10/
LOCATION:Bowman Historical Museum\, 246 N Main Street\, Prineville\, OR\, 97754\, United States
ORGANIZER;CN="ETC Ellipse Theatre Community":MAILTO:https://www.etcbend.org/contact
END:VEVENT
BEGIN:VEVENT
DTSTART;TZID=UTC:20260426T150000
DTEND;TZID=UTC:20260426T180000
DTSTAMP:20260423T175215
CREATED:20260411T235708Z
LAST-MODIFIED:20260412T000022Z
UID:2556-1777215600-1777226400@highdesertbits.com
SUMMARY:Auditions for Ellipse Theatre Community  for Venus in Furs
DESCRIPTION:Ellipse Theatre Community Auditions for Venus in Furs \nSun.\, April 26 from 3-6pm \nTue.\, April 28 from 6-8pm
URL:https://highdesertbits.com/event/ellipse-theatre-community-auditions-for-venus-in-furs/
LOCATION:Holy Communion Church\, 1245 SE 3rd St\, Bend\, OR\, 97702
ORGANIZER;CN="ETC Ellipse Theatre Community":MAILTO:https://www.etcbend.org/contact
END:VEVENT
BEGIN:VEVENT
DTSTART;TZID=UTC:20260426T193000
DTEND;TZID=UTC:20260426T220000
DTSTAMP:20260423T175215
CREATED:20260331T131741Z
LAST-MODIFIED:20260419T163919Z
UID:2511-1777231800-1777240800@highdesertbits.com
SUMMARY:Greenhouse Cabaret presents Natasha\, Pierre & the Great Comet of 1812
DESCRIPTION:Greenhouse Cabaret presents Natasha\, Pierre & the Great Comet of 1812 \nElectropop Opera by Dave Malloy \nSun.\, 4/26 @ 7:30pm \n  \nThu.\, 4/30 @ 7:30pm \nFri.\, 5/1 /@ 7:30pm \nSat.\, 5/2 @ 7:30pm
URL:https://highdesertbits.com/event/greenhouse-cabaret-presents-natasha-pierre-the-great-comet-of-1812-electropop-opera-by-dave-malloy-sat-4-25-730pm-sun-4-26-730pm-thu-4-30-730pm-fri-5-1-730pm-sat-5-2/
LOCATION:Greenhouse Cabaret\, 1017 NE 2nd St.\, Bend\, OR\, 97701\, United States
END:VEVENT
END:VCALENDAR