BEGIN:VCALENDAR
VERSION:2.0
PRODID:-//High Desert B.I.T.S. - ECPv6.15.20//NONSGML v1.0//EN
CALSCALE:GREGORIAN
METHOD:PUBLISH
X-ORIGINAL-URL:https://highdesertbits.com
X-WR-CALDESC:Events for High Desert B.I.T.S.
REFRESH-INTERVAL;VALUE=DURATION:PT1H
X-Robots-Tag:noindex
X-PUBLISHED-TTL:PT1H
BEGIN:VTIMEZONE
TZID:UTC
BEGIN:STANDARD
TZOFFSETFROM:+0000
TZOFFSETTO:+0000
TZNAME:UTC
DTSTART:20250101T000000
END:STANDARD
END:VTIMEZONE
BEGIN:VEVENT
DTSTART;TZID=UTC:20260430T080000
DTEND;TZID=UTC:20260430T170000
DTSTAMP:20260423T175243
CREATED:20250907T131802Z
LAST-MODIFIED:20250907T131802Z
UID:1828-1777536000-1777568400@highdesertbits.com
SUMMARY:Crook County High School presents 12 ANGRY JURORS
DESCRIPTION:Crook County High School presents 12 ANGRY JURORS \n12 Angry Jurors\, based on the 1954 teleplay ‘12 Angry Men‘ by Reginald Rose \nThu.\, 4/30 \nFri.\, 5/1 \nSat.\, 5/2 \nSun.\, 5/3
URL:https://highdesertbits.com/event/crook-county-high-school-presents-12-angry-jurors/
LOCATION:Crook County High School\, 1100 SE Lynn Blvd\, Prineville\, OR\, 97754
END:VEVENT
BEGIN:VEVENT
DTSTART;TZID=UTC:20260430T193000
DTEND;TZID=UTC:20260430T213000
DTSTAMP:20260423T175243
CREATED:20250908T131708Z
LAST-MODIFIED:20250908T131708Z
UID:2036-1777577400-1777584600@highdesertbits.com
SUMMARY:Cascade Theatrical Company presents AMERICAN BUFFALO
DESCRIPTION:Cascade Theatrical Company presents AMERICAN BUFFALO \nBy David Mamet \nThu.\, 4/30 @ 7:30pm \nFri.\, 5/1 @ 7:30pm \nSat.\, 5/2 @ 7:30pm \nSun.\, 5/3 @ 2pm \n  \nThu.\, 5/7 @ 7:30pm \nFri.\, 5/8 @ 7:30pm \nSat.\, 5/9 @ 7:30pm \nSun.\, 5/10 @ 2pm
URL:https://highdesertbits.com/event/cascade-theatrical-company-presents-american-buffalo-4/
LOCATION:CTC Cascade Theatrical Company\, 148 NW Greenwood Ave\, Bend\, OR\, 97703
ORGANIZER;CN="CTC Cascade Theatrical Company":MAILTO:ctcinfo@cascadestheatrical.org
END:VEVENT
BEGIN:VEVENT
DTSTART;TZID=UTC:20260430T193000
DTEND;TZID=UTC:20260430T220000
DTSTAMP:20260423T175243
CREATED:20260331T131903Z
LAST-MODIFIED:20260331T131903Z
UID:2513-1777577400-1777586400@highdesertbits.com
SUMMARY:Greenhouse Cabaret presents Natasha\, Pierre & the Great Comet of 1812
DESCRIPTION:Greenhouse Cabaret presents Natasha\, Pierre & the Great Comet of 1812 \nElectropop Opera by Dave Malloy \nThu.\, 4/30 @ 7:30pm \nFri.\, 5/1 /@ 7:30pm \nSat.\, 5/2 @ 7:30pm
URL:https://highdesertbits.com/event/greenhouse-cabaret-presents-natasha-pierre-the-great-comet-of-1812-15/
LOCATION:Greenhouse Cabaret\, 1017 NE 2nd St.\, Bend\, OR\, 97701\, United States
END:VEVENT
END:VCALENDAR