BEGIN:VCALENDAR
VERSION:2.0
PRODID:-//High Desert B.I.T.S. - ECPv6.15.20//NONSGML v1.0//EN
CALSCALE:GREGORIAN
METHOD:PUBLISH
X-WR-CALNAME:High Desert B.I.T.S.
X-ORIGINAL-URL:https://highdesertbits.com
X-WR-CALDESC:Events for High Desert B.I.T.S.
REFRESH-INTERVAL;VALUE=DURATION:PT1H
X-Robots-Tag:noindex
X-PUBLISHED-TTL:PT1H
BEGIN:VTIMEZONE
TZID:UTC
BEGIN:STANDARD
TZOFFSETFROM:+0000
TZOFFSETTO:+0000
TZNAME:UTC
DTSTART:20250101T000000
END:STANDARD
END:VTIMEZONE
BEGIN:VEVENT
DTSTART;TZID=UTC:20260503T080000
DTEND;TZID=UTC:20260503T170000
DTSTAMP:20260423T175222
CREATED:20250907T132120Z
LAST-MODIFIED:20250907T132120Z
UID:1834-1777795200-1777827600@highdesertbits.com
SUMMARY:Crook County High School presents 12 ANGRY JURORS
DESCRIPTION:Crook County High School presents 12 ANGRY JURORS \n12 Angry Jurors\, based on the 1954 teleplay ‘12 Angry Men‘ by Reginald Rose \nThu.\, 4/30 \nFri.\, 5/1 \nSat.\, 5/2 \nSun.\, 5/3
URL:https://highdesertbits.com/event/crook-county-high-school-presents-12-angry-jurors-4/
LOCATION:Crook County High School\, 1100 SE Lynn Blvd\, Prineville\, OR\, 97754
END:VEVENT
BEGIN:VEVENT
DTSTART;TZID=UTC:20260503T140000
DTEND;TZID=UTC:20260503T160000
DTSTAMP:20260423T175222
CREATED:20250908T132119Z
LAST-MODIFIED:20250908T132119Z
UID:2042-1777816800-1777824000@highdesertbits.com
SUMMARY:Cascade Theatrical Company presents AMERICAN BUFFALO
DESCRIPTION:Cascade Theatrical Company presents AMERICAN BUFFALO \nBy David Mamet \nSun.\, 5/3 @ 2pm \n  \nThu.\, 5/7 @ 7:30pm \nFri.\, 5/8 @ 7:30pm \nSat.\, 5/9 @ 7:30pm \nSun.\, 5/10 @ 2pm
URL:https://highdesertbits.com/event/cascade-theatrical-company-presents-american-buffalo-7/
LOCATION:CTC Cascade Theatrical Company\, 148 NW Greenwood Ave\, Bend\, OR\, 97703
ORGANIZER;CN="CTC Cascade Theatrical Company":MAILTO:ctcinfo@cascadestheatrical.org
END:VEVENT
BEGIN:VEVENT
DTSTART;TZID=UTC:20260503T140000
DTEND;TZID=UTC:20260503T170000
DTSTAMP:20260423T175222
CREATED:20260407T224115Z
LAST-MODIFIED:20260407T224115Z
UID:2550-1777816800-1777827600@highdesertbits.com
SUMMARY:Ochoco Players presents REVOLUTIONARY TV
DESCRIPTION:Ochoco Players presents REVOLUTIONARY TV \na play by Tracy Wells \nSun.\, May 3 @TBD
URL:https://highdesertbits.com/event/ochoco-players-presents-revolutionary-tv-3/
LOCATION:Bowman Historical Museum\, 246 N Main Street\, Prineville\, OR\, 97754\, United States
END:VEVENT
END:VCALENDAR