BEGIN:VCALENDAR
VERSION:2.0
PRODID:-//High Desert B.I.T.S. - ECPv6.15.20//NONSGML v1.0//EN
CALSCALE:GREGORIAN
METHOD:PUBLISH
X-WR-CALNAME:High Desert B.I.T.S.
X-ORIGINAL-URL:https://highdesertbits.com
X-WR-CALDESC:Events for High Desert B.I.T.S.
REFRESH-INTERVAL;VALUE=DURATION:PT1H
X-Robots-Tag:noindex
X-PUBLISHED-TTL:PT1H
BEGIN:VTIMEZONE
TZID:UTC
BEGIN:STANDARD
TZOFFSETFROM:+0000
TZOFFSETTO:+0000
TZNAME:UTC
DTSTART:20250101T000000
END:STANDARD
END:VTIMEZONE
BEGIN:VEVENT
DTSTART;TZID=UTC:20260507T190000
DTEND;TZID=UTC:20260507T210000
DTSTAMP:20260423T191711
CREATED:20260407T184000Z
LAST-MODIFIED:20260407T184010Z
UID:2532-1778180400-1778187600@highdesertbits.com
SUMMARY:Caldera High School presents NEWSIES
DESCRIPTION:Caldera High School presents NEWSIES \nWith music by Alan Menken\, lyrics by Jack Feldman\, and a book by Harvey Fierstein. \nThu.\, 5/7 @ 7pm \nSat.\, 5/9 @ 2pm and 7pm \nFri.\, 5/15 @ 7pm \nSat.\, 5/16 @ 2pm and 7pm
URL:https://highdesertbits.com/event/caldera-high-school-presents-newsies/
LOCATION:Caldera High School\, 60925 SE 15th St\,\, Bend\, OR\, 97702\, United States
END:VEVENT
BEGIN:VEVENT
DTSTART;TZID=UTC:20260507T193000
DTEND;TZID=UTC:20260507T213000
DTSTAMP:20260423T191711
CREATED:20250908T132237Z
LAST-MODIFIED:20250908T132237Z
UID:2044-1778182200-1778189400@highdesertbits.com
SUMMARY:Cascade Theatrical Company presents AMERICAN BUFFALO
DESCRIPTION:Cascade Theatrical Company presents AMERICAN BUFFALO \nBy David Mamet \nThu.\, 5/7 @ 7:30pm \nFri.\, 5/8 @ 7:30pm \nSat.\, 5/9 @ 7:30pm \nSun.\, 5/10 @ 2pm
URL:https://highdesertbits.com/event/cascade-theatrical-company-presents-american-buffalo-8/
LOCATION:CTC Cascade Theatrical Company\, 148 NW Greenwood Ave\, Bend\, OR\, 97703
ORGANIZER;CN="CTC Cascade Theatrical Company":MAILTO:ctcinfo@cascadestheatrical.org
END:VEVENT
END:VCALENDAR